Workbook

Sheet Naslovna strana
A6: REPUBLIKA HRVATSKA
A7: Osnovna škola Mokošica, Dubrovnik
A8: RKP broj: | B8: 9021
A9: Razina: | B9: 31
A11: KLASA: | B11: 400-01/26-01/6
A12: URBROJ: | B12: 2117-1-126-03-26-1
A13: Dubrovnik, 30.9.2026. godine
A16: PRIJEDLOG FINANCIJSKOG PLANA ZA 2027. GODINU S PROJEKCIJAMA ZA 2028. GODINU I 2029. GODINU

Sheet Sažetak
A1: PRIJEDLOG FINANCIJSKOG PLANA ZA 2027. GODINU S PROJEKCIJAMA ZA 2028. GODINU I 2029. GODINU
A3: I. OPĆI DIO
A5: 1.1. SAŽETAK RAČUNA PRIHODA I RASHODA I RAČUNA FINANCIRANJA
A7: A) SAŽETAK RAČUNA PRIHODA I RASHODA
A9: BROJČANA OZNAKA I NAZIV | F9: Izvršenje 2025. | G9: Plan 2026. | H9: Proračun za 2027. | I9: Projekcija proračuna za 2028. | J9: Projekcija proračuna za 2029.
A10: PRIHODI UKUPNO | F10: =SUM(F11:F12) -> 3127880.3 | G10: =SUM(G11:G12) -> 3688753 | H10: =SUM(H11:H12) -> 3622201 | I10: =SUM(I11:I12) -> 3622201 | J10: =SUM(J11:J12) -> 3622201
A11: 6 PRIHODI POSLOVANJA | F11: 3127880.3 | G11: 3688753 | H11: ='Ekonomska klasifikacija'!H11 -> 3622201 | I11: ='Ekonomska klasifikacija'!I11 -> 3622201 | J11: ='Ekonomska klasifikacija'!J11 -> 3622201
A12: 7 PRIHODI OD PRODAJE NEFINANCIJSKE IMOVINE | F12: 0 | G12: 0 | H12: 0 | I12: 0 | J12: 0
A13: RASHODI UKUPNO | F13: =SUM(F14:F15) -> 3388646.4 | G13: =SUM(G14:G15) -> 3688753 | H13: =SUM(H14:H15) -> 3622201 | I13: =SUM(I14:I15) -> 3622201 | J13: =SUM(J14:J15) -> 3622201
A14: 3 RASHODI POSLOVANJA | F14: 3297948 | G14: 3607353 | H14: ='Ekonomska klasifikacija'!H36 -> 3528851 | I14: ='Ekonomska klasifikacija'!I36 -> 3528851 | J14: ='Ekonomska klasifikacija'!J36 -> 3528851
A15: 4 RASHODI ZA NABAVU NEFINANCIJSKE IMOVINE | F15: 90698.4 | G15: 81400 | H15: ='Ekonomska klasifikacija'!H82 -> 93350 | I15: ='Ekonomska klasifikacija'!I82 -> 93350 | J15: ='Ekonomska klasifikacija'!J82 -> 93350
A16: RAZLIKA - VIŠAK / MANJAK | F16: =F10-F13 -> -260766.09 | G16: =G10-G13 -> 0 | H16: =H10-H13 -> 0 | I16: =I10-I13 -> 0 | J16: =J10-J13 -> 0
A18: B) SAŽETAK RAČUNA FINANCIRANJA
A20: BROJČANA OZNAKA I NAZIV | F20: Izvršenje 2025. | G20: Plan 2026. | H20: Proračun za 2027. | I20: Projekcija proračuna za 2028. | J20: Projekcija proračuna za 2029.
A21: 8 PRIMICI OD FINANCIJSKE IMOVINE I ZADUŽIVANJA | F21: 0 | G21: 0 | H21: 0 | I21: 0 | J21: 0
A22: 5 IZDACI ZA FINANCIJSKU IMOVINU I OTPLATE ZAJMOVA | F22: 0 | G22: 0 | H22: 0 | I22: 0 | J22: 0
A23: NETO FINANCIRANJE | F23: 0 | G23: 0 | H23: 0 | I23: 0 | J23: 0
A25: C) PRENESENI VIŠAK ILI PRENESENI MANJAK
A27: BROJČANA OZNAKA I NAZIV | F27: Izvršenje 2025. | G27: Plan 2026. | H27: Proračun za 2027. | I27: Projekcija proračuna za 2028. | J27: Projekcija proračuna za 2029.
A28: Preneseni višak iz prethodne godine | F28: 9248.47 | G28: 0 | H28: 0 | I28: 0 | J28: 0
A29: Preneseni manjak iz prethodne godine | F29: -260766.09 | G29: 0 | H29: -251518 | I29: -251518 | J29: -251518
A30: PRIJENOS VIŠKA / MANJKA U SLJEDEĆE RAZDOBLJE | F30: =F28+F29 -> -251517.62 | G30: =G28+G29 -> 0 | H30: =H28+H29 -> -251518 | I30: =I28+I29 -> -251518 | J30: =J28+J29 -> -251518
A32: D) VIŠEGODIŠNJI PLAN URAVNOTEŽENJA
A34: BROJČANA OZNAKA I NAZIV | F34: Izvršenje 2025. | G34: Plan 2026. | H34: Proračun za 2027. | I34: Projekcija proračuna za 2028. | J34: Projekcija proračuna za 2029.
A35: Ukupno za uravnoteženje (A+B+C) | F35: -251517.62 | G35: 0 | H35: -251518 | I35: -251518 | J35: -251518
A36: Planirani manjak za pokriće u idućem razdoblju | F36: 0 | G36: 0 | H36: 0 | I36: 0 | J36: 0
A37: PRIJENOS VIŠKA / MANJKA U SLJEDEĆE RAZDOBLJE | F37: =F35+F36 -> -251517.62 | G37: 0 | H37: =H35+H36 -> -251518 | I37: =I35+I36 -> -251518 | J37: =J35+J36 -> -251518

Sheet Ekonomska klasifikacija
A2: I. OPĆI DIO
A4: 1.2. RAČUN PRIHODA I RASHODA
A6: 1.2.1. PRIHODI I RASHODI POSLOVANJA PREMA EKONOMSKOJ KLASIFIKACIJI
A8: BROJČANA OZNAKA I NAZIV | F8: Izvršenje 2025. | G8: Plan 2026. | H8: Proračun za 2027. | I8: Projekcija proračuna za 2028. | J8: Projekcija proračuna za 2029.
A9: 1 | F9: 2 | G9: 3 | H9: 4 | I9: 5 | J9: 6
E10: UKUPNO PRIHODI | F10: =F11 -> 3127880.3 | G10: =G11 -> 3688753 | H10: =H11 -> 3622201 | I10: =I11 -> 3622201 | J10: =J11 -> 3622201
A11: 6 | E11: Prihodi poslovanja | F11: =F12+F16+F19+F22+F28 -> 3127880.3 | G11: =G12+G16+G19+G22+G28 -> 3688753 | H11: =H12+H16+H19+H22+H28 -> 3622201 | I11: =I12+I16+I19+I22+I28 -> 3622201 | J11: =J12+J16+J19+J22+J28 -> 3622201
B12: 63 | E12: Pomoći iz inozemstva i od subjekata unutar općeg proračuna | F12: =F13 -> 2378709.3 | G12: =G13 -> 2672410 | H12: =H13 -> 2640036 | I12: =I13 -> 2640036 | J12: =J13 -> 2640036
C13: 636 | E13: Pomoći proračunskim korisnicima iz proračuna koji im nije nadležan | F13: =SUM(F14:F15) -> 2378709.3 | G13: =SUM(G14:G15) -> 2672410 | H13: =SUM(H14:H15) -> 2640036 | I13: =SUM(I14:I15) -> 2640036 | J13: =SUM(J14:J15) -> 2640036
D14: 6361 | E14: Tekuće pomoći proračunskim korisnicima iz proračuna koji im nije nadležan | F14: 2331576.8 | G14: 2625910 | H14: 2585536 | I14: 2585536 | J14: 2585536
D15: 6362 | E15: Kapitalne pomoći proračunskim korisnicima iz proračuna koji im nije nadležan | F15: 47132.46 | G15: 46500 | H15: 54500 | I15: 54500 | J15: 54500
B16: 64 | E16: Prihodi od imovine | F16: =F17 -> 0.36 | G16: =G17 -> 0 | H16: =H17 -> 1 | I16: =I17 -> 1 | J16: =J17 -> 1
C17: 641 | E17: Prihodi od financijske imovine | F17: =F18 -> 0.36 | G17: =G18 -> 0 | H17: =H18 -> 1 | I17: =I18 -> 1 | J17: =J18 -> 1
D18: 6413 | E18: Kamate na depozite po viđenju | F18: 0.36 | G18: 0 | H18: 1 | I18: 1 | J18: 1
B19: 65 | E19: Prihodi od upravnih i administrativnih pristojbi, pristojbi po posebnim propisima i naknadama | F19: =F20 -> 66015.89 | G19: =G20 -> 57742 | H19: =H20 -> 90400 | I19: =I20 -> 90400 | J19: =J20 -> 90400
C20: 652 | E20: Prihodi po posebnim propisima | F20: =F21 -> 66015.89 | G20: =G21 -> 57742 | H20: =H21 -> 90400 | I20: =I21 -> 90400 | J20: =J21 -> 90400
D21: 6526 | E21: Ostali nespomenuti prihodi | F21: 66015.89 | G21: 57742 | H21: 90400 | I21: 90400 | J21: 90400
B22: 66 | E22: Prihodi od prodaje proizvoda i robe te pruženih usluga, prihodi od donacija te povrati po protestiranim jamstvima | F22: =F23+F25 -> 13671.02 | G22: =G23+G25 -> 6600 | H22: =H23+H25 -> 8399 | I22: =I23+I25 -> 8399 | J22: =J23+J25 -> 8399
C23: 661 | E23: Prihodi od prodaje proizvoda i robe te pruženih usluga | F23: =F24 -> 4140.3 | G23: =G24 -> 4100 | H23: =H24 -> 4099 | I23: =I24 -> 4099 | J23: =J24 -> 4099
D24: 6615 | E24: Prihodi od pruženih usluga | F24: 4140.3 | G24: 4100 | H24: 4099 | I24: 4099 | J24: 4099
C25: 663 | E25: Donacije od pravnih i fizičkih osoba izvan općeg proračuna i povrat donacija po protestiranim jamstvima | F25: =SUM(F26:F27) -> 9530.72 | G25: =SUM(G26:G27) -> 2500 | H25: =SUM(H26:H27) -> 4300 | I25: =SUM(I26:I27) -> 4300 | J25: =SUM(J26:J27) -> 4300
D26: 6631 | E26: Tekuće donacije | F26: 651.76 | G26: 0 | H26: 800 | I26: 800 | J26: 800
D27: 6632 | E27: Kapitalne donacije | F27: 8878.96 | G27: 2500 | H27: 3500 | I27: 3500 | J27: 3500
B28: 67 | E28: Prihodi iz nadležnog proračuna i od HZZO-a temeljem ugovornih obveza | F28: =F29 -> 669483.76 | G28: =G29 -> 952001 | H28: =H29 -> 883365 | I28: =I29 -> 883365 | J28: =J29 -> 883365
C29: 671 | E29: Prihodi iz nadlženog proračuna za financiranje redovne djelatnosti proračunskih korisnika | F29: =SUM(F30:F31) -> 669483.76 | G29: =SUM(G30:G31) -> 952001 | H29: =SUM(H30:H31) -> 883365 | I29: =SUM(I30:I31) -> 883365 | J29: =SUM(J30:J31) -> 883365
D30: 6711 | E30: Prihodi iz nadležnog proračuna za financiranje rashoda poslovanja | F30: 642483.76 | G30: 922001 | H30: 850015 | I30: 850015 | J30: 850015
D31: 6712 | E31: Prihodi iz nadležnog proračuna za financiranje rashoda za nabavu nefinancijske imovine | F31: 27000 | G31: 30000 | H31: 33350 | I31: 33350 | J31: 33350
A33: BROJČANA OZNAKA I NAZIV | F33: Izvršenje 2025. | G33: Plan 2026. | H33: Proračun za 2027. | I33: Projekcija proračuna za 2028. | J33: Projekcija proračuna za 2029.
A34: 1 | F34: 2 | G34: 3 | H34: 4 | I34: 5 | J34: 6
E35: UKUPNO RASHODI | F35: =F36+F82 -> 3388646.4 | G35: =G36+G82 -> 3688753 | H35: =H36+H82 -> 3622201 | I35: =I36+I82 -> 3622201 | J35: =J36+J82 -> 3622201
A36: 3 | E36: Rashodi poslovanja | F36: =F37+F45+F73+F76+F79 -> 3297948 | G36: =G37+G45+G73+G76+G79 -> 3607353 | H36: =H37+H45+H73+H76+H79 -> 3528851 | I36: =I37+I45+I73+I76+I79 -> 3528851 | J36: =J37+J45+J73+J76+J79 -> 3528851
B37: 31 | E37: Rashodi za zaposlene | F37: =F38+F41+F43 -> 2705954.8 | G37: =G38+G41+G43 -> 2915300 | H37: =H38+H41+H43 -> 2984461 | I37: =I38+I41+I43 -> 2984461 | J37: =J38+J41+J43 -> 2984461
C38: 311 | E38: Plaće (Bruto) | F38: =SUM(F39:F40) -> 2238891.4 | G38: =SUM(G39:G40) -> 2413951 | H38: =SUM(H39:H40) -> 2472090 | I38: =SUM(I39:I40) -> 2472090 | J38: =SUM(J39:J40) -> 2472090
D39: 3111 | E39: Plaće za redovan rad | F39: ='Posebni dio'!F67+'Posebni dio'!F76+'Posebni dio'!F117+'Posebni dio'!F138+'Posebni dio'!F168+'Posebni dio'!F205+'Posebni dio'!F213+'Posebni dio'!F221+'Posebni dio'!F227+'Posebni dio'!F87 -> 2238891.4 | G39: ='Posebni dio'!G67+'Posebni dio'!G76+'Posebni dio'!G117+'Posebni dio'!G138+'Posebni dio'!G168+'Posebni dio'!G205+'Posebni dio'!G213+'Posebni dio'!G221+'Posebni dio'!G227+'Posebni dio'!G87 -> 2388951 | H39: ='Posebni dio'!H67+'Posebni dio'!H76+'Posebni dio'!H117+'Posebni dio'!H138+'Posebni dio'!H168+'Posebni dio'!H205+'Posebni dio'!H213+'Posebni dio'!H221+'Posebni dio'!H227+'Posebni dio'!H87 -> 2432090 | I39: ='Posebni dio'!I67+'Posebni dio'!I76+'Posebni dio'!I117+'Posebni dio'!I138+'Posebni dio'!I168+'Posebni dio'!I205+'Posebni dio'!I213+'Posebni dio'!I221+'Posebni dio'!I227+'Posebni dio'!I87 -> 2432090 | J39: ='Posebni dio'!J67+'Posebni dio'!J76+'Posebni dio'!J117+'Posebni dio'!J138+'Posebni dio'!J168+'Posebni dio'!J205+'Posebni dio'!J213+'Posebni dio'!J221+'Posebni dio'!J227+'Posebni dio'!J87 -> 2432090
D40: 3113 | E40: Plaće za prekovremeni rad | F40: ='Posebni dio'!F68+'Posebni dio'!F77+'Posebni dio'!F169 -> 0 | G40: ='Posebni dio'!G68+'Posebni dio'!G77+'Posebni dio'!G169 -> 25000 | H40: ='Posebni dio'!H68+'Posebni dio'!H77+'Posebni dio'!H169 -> 40000 | I40: ='Posebni dio'!I68+'Posebni dio'!I77+'Posebni dio'!I169 -> 40000 | J40: ='Posebni dio'!J68+'Posebni dio'!J77+'Posebni dio'!J169 -> 40000
C41: 312 | E41: Ostali rashodi za zaposlene | F41: =F42 -> 99741.89 | G41: =G42 -> 106100 | H41: =H42 -> 104200 | I41: =I42 -> 104200 | J41: =J42 -> 104200
D42: 3121 | E42: Ostali rashodi za zaposlene | F42: ='Posebni dio'!F69+'Posebni dio'!F78+'Posebni dio'!F170+'Posebni dio'!F206+'Posebni dio'!F214 -> 99741.89 | G42: ='Posebni dio'!G69+'Posebni dio'!G78+'Posebni dio'!G170+'Posebni dio'!G206+'Posebni dio'!G214 -> 106100 | H42: ='Posebni dio'!H69+'Posebni dio'!H78+'Posebni dio'!H170+'Posebni dio'!H206+'Posebni dio'!H214 -> 104200 | I42: ='Posebni dio'!I69+'Posebni dio'!I78+'Posebni dio'!I170+'Posebni dio'!I206+'Posebni dio'!I214 -> 104200 | J42: ='Posebni dio'!J69+'Posebni dio'!J78+'Posebni dio'!J170+'Posebni dio'!J206+'Posebni dio'!J214 -> 104200
C43: 313 | E43: Doprinosi na plaće | F43: =F44 -> 367321.58 | G43: =G44 -> 395249 | H43: =H44 -> 408171 | I43: =I44 -> 408171 | J43: =J44 -> 408171
D44: 3132 | E44: Doprinosi za obvezno zdravstveno osiguranje | F44: ='Posebni dio'!F70+'Posebni dio'!F79+'Posebni dio'!F118+'Posebni dio'!F139+'Posebni dio'!F171+'Posebni dio'!F207+'Posebni dio'!F215+'Posebni dio'!F222+'Posebni dio'!F228 -> 367321.58 | G44: ='Posebni dio'!G70+'Posebni dio'!G79+'Posebni dio'!G118+'Posebni dio'!G139+'Posebni dio'!G171+'Posebni dio'!G207+'Posebni dio'!G215+'Posebni dio'!G222+'Posebni dio'!G228 -> 395249 | H44: ='Posebni dio'!H70+'Posebni dio'!H79+'Posebni dio'!H118+'Posebni dio'!H139+'Posebni dio'!H171+'Posebni dio'!H207+'Posebni dio'!H215+'Posebni dio'!H222+'Posebni dio'!H228+'Posebni dio'!H88 -> 408171 | I44: ='Posebni dio'!I70+'Posebni dio'!I79+'Posebni dio'!I118+'Posebni dio'!I139+'Posebni dio'!I171+'Posebni dio'!I207+'Posebni dio'!I215+'Posebni dio'!I222+'Posebni dio'!I228+'Posebni dio'!I88 -> 408171 | J44: ='Posebni dio'!J70+'Posebni dio'!J79+'Posebni dio'!J118+'Posebni dio'!J139+'Posebni dio'!J171+'Posebni dio'!J207+'Posebni dio'!J215+'Posebni dio'!J222+'Posebni dio'!J228+'Posebni dio'!J88 -> 408171
B45: 32 | E45: Materijalni rashodi | F45: =F46+F50+F57+F67 -> 528567.8 | G45: =G46+G50+G57+G67 -> 687253 | H45: =H46+H50+H57+H67 -> 538490 | I45: =I46+I50+I57+I67 -> 538490 | J45: =J46+J50+J57+J67 -> 538490
...

Sheet Izvori financiranja
A2: I. OPĆI DIO
A4: 1.2. RAČUN PRIHODA I RASHODA
A6: 1.2.2. PRIHODI I RASHODI POSLOVANJA PREMA IZVORIMA FINANCIRANJA
A10: BROJČANA OZNAKA I NAZIV | B10: Izvršenje 2025. | C10: Plan 2026. | D10: Proračun za 2027. | E10: Projekcija proračuna za 2028. | F10: Projekcija proračuna za 2029.
A11: 1 | B11: 2 | C11: 3 | D11: 4 | E11: 5 | F11: 6
A12: UKUPNO RASHODI | B12: =B13+B15+B18+B21+B27+B30 -> 3388646.4 | C12: =C13+C15+C18+C21+C27+C30 -> 3688753 | D12: =D13+D15+D18+D21+D27+D30 -> 3622201 | E12: =E13+E15+E18+E21+E27+E30 -> 3622201 | F12: =F13+F15+F18+F21+F27+F30 -> 3622201
A13: 1 | B13: =B14 -> 481762.17 | C13: =C14 -> 663265 | D13: =D14 -> 707408 | E13: =E14 -> 707408 | F13: =F14 -> 707408
A14: 11 Opći prihodi i primici | B14: ='Posebni dio'!F13+'Posebni dio'!F85+'Posebni dio'!F166+'Posebni dio'!F199+'Posebni dio'!F203+'Posebni dio'!F211 -> 481762.17 | C14: ='Posebni dio'!G13+'Posebni dio'!G85+'Posebni dio'!G166+'Posebni dio'!G199+'Posebni dio'!G203+'Posebni dio'!G211 -> 663265 | D14: ='Posebni dio'!H13+'Posebni dio'!H85+'Posebni dio'!H166+'Posebni dio'!H199+'Posebni dio'!H203+'Posebni dio'!H211+'Posebni dio'!H270 -> 707408 | E14: ='Posebni dio'!I13+'Posebni dio'!I85+'Posebni dio'!I166+'Posebni dio'!I199+'Posebni dio'!I203+'Posebni dio'!I211+'Posebni dio'!I270 -> 707408 | F14: ='Posebni dio'!J13+'Posebni dio'!J85+'Posebni dio'!J166+'Posebni dio'!J199+'Posebni dio'!J203+'Posebni dio'!J211+'Posebni dio'!J270 -> 707408
A15: 3 | B15: =SUM(B16:B17) -> 4156.56 | C15: =SUM(C16:C17) -> 4100 | D15: =SUM(D16:D17) -> 9500 | E15: =SUM(E16:E17) -> 9500 | F15: =SUM(F16:F17) -> 9500
A16: 31 Vlastiti prihodi | B16: ='Posebni dio'!F99+'Posebni dio'!F273 -> 0 | C16: ='Posebni dio'!G99+'Posebni dio'!G273 -> 0 | D16: ='Posebni dio'!H99+'Posebni dio'!H273 -> 9500 | E16: ='Posebni dio'!I99+'Posebni dio'!I273 -> 9500 | F16: ='Posebni dio'!J99+'Posebni dio'!J273 -> 9500
A17: 35 Vlastiti prihodi proračunskih korisnika | B17: ='Posebni dio'!F108+'Posebni dio'!F277 -> 4156.56 | C17: ='Posebni dio'!G108+'Posebni dio'!G277 -> 4100 | D17: ='Posebni dio'!H108+'Posebni dio'!H277 -> 0 | E17: ='Posebni dio'!I108+'Posebni dio'!I277 -> 0 | F17: ='Posebni dio'!J108+'Posebni dio'!J277 -> 0
A18: 4 | B18: =SUM(B19:B20) -> 200000 | C18: =SUM(C19:C20) -> 214000 | D18: =SUM(D19:D20) -> 85000 | E18: =SUM(E19:E20) -> 85000 | F18: =SUM(F19:F20) -> 85000
A19: 41 Potpore za decentralizirane izdatke | B19: ='Posebni dio'!F34+'Posebni dio'!F257 -> 200000 | C19: ='Posebni dio'!G34+'Posebni dio'!G257 -> 214000 | D19: ='Posebni dio'!H34+'Posebni dio'!H257 -> 0 | E19: ='Posebni dio'!I34+'Posebni dio'!I257 -> 0 | F19: ='Posebni dio'!J34+'Posebni dio'!J257 -> 0
A20: 43 Ostali prihodi za posebne namjene | B20: ='Posebni dio'!F174 -> 0 | C20: ='Posebni dio'!G174 -> 0 | D20: ='Posebni dio'!H174 -> 85000 | E20: ='Posebni dio'!I174 -> 85000 | F20: ='Posebni dio'!J174 -> 85000
A21: 5 | B21: =SUM(B22:B26) -> 2414699.8 | C21: =SUM(C22:C26) -> 2513761 | D21: =SUM(D22:D26) -> 2815993 | E21: =SUM(E22:E26) -> 2815993 | F21: =SUM(F22:F26) -> 2815993
A22: 50 Pomoći iz državnog proračuna kroz opće prihode i primitke | B22: ='Posebni dio'!F60+'Posebni dio'!F65+'Posebni dio'!F115+'Posebni dio'!F232+'Posebni dio'!F249+'Posebni dio'!F263 -> 0 | C22: ='Posebni dio'!G60+'Posebni dio'!G65+'Posebni dio'!G115+'Posebni dio'!G232+'Posebni dio'!G249+'Posebni dio'!G263 -> 0 | D22: ='Posebni dio'!H60+'Posebni dio'!H65+'Posebni dio'!H115+'Posebni dio'!H232+'Posebni dio'!H249+'Posebni dio'!H263 -> 2739393 | E22: ='Posebni dio'!I60+'Posebni dio'!I65+'Posebni dio'!I115+'Posebni dio'!I232+'Posebni dio'!I249+'Posebni dio'!I263 -> 2739393 | F22: ='Posebni dio'!J60+'Posebni dio'!J65+'Posebni dio'!J115+'Posebni dio'!J232+'Posebni dio'!J249+'Posebni dio'!J263 -> 2739393
A23: 52 Namjenske tekuće pomoći | B23: ='Posebni dio'!F239 -> 0 | C23: ='Posebni dio'!G239 -> 275 | D23: ='Posebni dio'!H239 -> 0 | E23: ='Posebni dio'!I239 -> 0 | F23: ='Posebni dio'!J239 -> 0
A24: 54 EU fondovi-pomoći | B24: ='Posebni dio'!F219+'Posebni dio'!F242 -> 65783.08 | C24: ='Posebni dio'!G219+'Posebni dio'!G242 -> 0 | D24: ='Posebni dio'!H219+'Posebni dio'!H242 -> 0 | E24: ='Posebni dio'!I219+'Posebni dio'!I242 -> 0 | F24: ='Posebni dio'!J219+'Posebni dio'!J242 -> 0
A25: 56 Fondovi EU | B25: ='Posebni dio'!F225+'Posebni dio'!F245 -> 0 | C25: ='Posebni dio'!G225+'Posebni dio'!G245 -> 74461 | D25: ='Posebni dio'!H225+'Posebni dio'!H245 -> 76600 | E25: ='Posebni dio'!I225+'Posebni dio'!I245 -> 76600 | F25: ='Posebni dio'!J225+'Posebni dio'!J245 -> 76600
A26: 59 Pomoći iz državnog proračuna za plaće te ostale rashode za zaposlene | B26: ='Posebni dio'!F74 -> 2348916.7 | C26: ='Posebni dio'!G74 -> 2439025 | D26: ='Posebni dio'!H74 -> 0 | E26: ='Posebni dio'!I74 -> 0 | F26: ='Posebni dio'!J74 -> 0
A27: 6 | B27: =SUM(B28:B29) -> 278779.42 | C27: =SUM(C28:C29) -> 293627 | D27: =SUM(D28:D29) -> 4300 | E27: =SUM(E28:E29) -> 4300 | F27: =SUM(F28:F29) -> 4300
A28: 61 Donacije | B28: ='Posebni dio'!F132+'Posebni dio'!F282 -> 0 | C28: ='Posebni dio'!G132+'Posebni dio'!G282 -> 0 | D28: ='Posebni dio'!H132+'Posebni dio'!H282 -> 4300 | E28: ='Posebni dio'!I132+'Posebni dio'!I282 -> 4300 | F28: ='Posebni dio'!J132+'Posebni dio'!J282 -> 4300
A29: 65 Donacije i ostali namjenski prihodi proračunskih korisnika | B29: ='Posebni dio'!F136+'Posebni dio'!F186+'Posebni dio'!F235+'Posebni dio'!F252+'Posebni dio'!F287 -> 278779.42 | C29: ='Posebni dio'!G136+'Posebni dio'!G186+'Posebni dio'!G235+'Posebni dio'!G252+'Posebni dio'!G287 -> 293627 | D29: ='Posebni dio'!H136+'Posebni dio'!H186+'Posebni dio'!H235+'Posebni dio'!H252+'Posebni dio'!H287 -> 0 | E29: ='Posebni dio'!I136+'Posebni dio'!I186+'Posebni dio'!I235+'Posebni dio'!I252+'Posebni dio'!I287 -> 0 | F29: ='Posebni dio'!J136+'Posebni dio'!J186+'Posebni dio'!J235+'Posebni dio'!J252+'Posebni dio'!J287 -> 0
A30: 9 | B30: =B31 -> 9248.47 | C30: =C31 -> 0 | D30: =D31 -> 0 | E30: =E31 -> 0 | F30: =F31 -> 0
A31: 99 Višak/manjak prihoda proračunskih korisnika | B31: ='Posebni dio'!F156 -> 9248.47 | C31: ='Posebni dio'!G156 -> 0 | D31: ='Posebni dio'!H156 -> 0 | E31: ='Posebni dio'!I156 -> 0 | F31: ='Posebni dio'!J156 -> 0
A32: UKUPNO PRIHODI | B32: =B33+B35+B38+B41+B47 -> 3127880.3 | C32: =C33+C35+C38+C41+C47 -> 3688753 | D32: =D33+D35+D38+D41+D47 -> 3622201 | E32: =E33+E35+E38+E41+E47 -> 3622201 | F32: =F33+F35+F38+F41+F47 -> 3622201
A33: 1 | B33: =B34 -> 669483.76 | C33: =C34 -> 663265 | D33: =D34 -> 707408 | E33: =E34 -> 707408 | F33: =F34 -> 707408
A34: 11 Opći prihodi i primici | B34: 669483.76 | C34: 663265 | D34: 707408 | E34: 707408 | F34: 707408
A35: 3 | B35: =SUM(B36:B37) -> 4140.3 | C35: =SUM(C36:C37) -> 4100 | D35: =SUM(D36:D37) -> 9500 | E35: =SUM(E36:E37) -> 9500 | F35: =SUM(F36:F37) -> 9500
A36: 31 Vlastiti prihodi | B36: 0 | C36: 0 | D36: 9500 | E36: 9500 | F36: 9500
A37: 35 Vlastiti prihodi proračunskih korisnika | B37: 4140.3 | C37: 4100 | D37: 0 | E37: 0 | F37: 0
A38: 4 | B38: =SUM(B39:B40) -> 0 | C38: =SUM(C39:C40) -> 214000 | D38: =SUM(D39:D40) -> 85000 | E38: =SUM(E39:E40) -> 85000 | F38: =SUM(F39:F40) -> 85000
A39: 41 Potpore za decentralizirane izdatke | B39: 0 | C39: 214000 | D39: 0 | E39: 0 | F39: 0
A40: 43 Ostali prihodi za posebne namjene | B40: 0 | C40: 0 | D40: 85000 | E40: 85000 | F40: 85000
A41: 5 | B41: =SUM(B42:B46) -> 2167967.9 | C41: =SUM(C42:C46) -> 2513761 | D41: =SUM(D42:D46) -> 2815993 | E41: =SUM(E42:E46) -> 2815993 | F41: =SUM(F42:F46) -> 2815993
A42: 50 Pomoći iz državnog proračuna kroz opće prihode i primitke | B42: 0 | C42: 0 | D42: 2739393 | E42: 2739393 | F42: 2739393
A43: 52 Namjenske tekuće pomoći | B43: 0 | C43: 275 | D43: 0 | E43: 0 | F43: 0
A44: 54 EU fondovi-pomoći | B44: 0 | C44: 0 | D44: 0 | E44: 0 | F44: 0
A45: 56 Fondovi EU | B45: 0 | C45: 74461 | D45: 76600 | E45: 76600 | F45: 76600
A46: 59 Pomoći iz državnog proračuna za plaće te ostale rashode za zaposlene | B46: 2167967.9 | C46: 2439025 | D46: 0 | E46: 0 | F46: 0
...

Sheet Funkcijska klasifikacija
A2: I. OPĆI DIO
A4: 1.2. RAČUN PRIHODA I RASHODA
A6: 1.2.3. RASHODI PREMA FUNKCIJSKOJ KLASIFIKACIJI
A9: BROJČANA OZNAKA I NAZIV | B9: Izvršenje 2025. | C9: Plan 2026. | D9: Proračun za 2027. | E9: Projekcija proračuna za 2028. | F9: Projekcija proračuna za 2029.
A10: 1 | B10: 2 | C10: 3 | D10: 4 | E10: 5 | F10: 6
A11: UKUPNO RASHODI | B11: =B12 -> 3388646.4 | C11: =C12 -> 3688753 | D11: =D12 -> 3622201 | E11: =E12 -> 3622201 | F11: =F12 -> 3622201
A12: 09 Obrazovanje | B12: =B13+B14 -> 3388646.4 | C12: =C13+C14 -> 3688753 | D12: =D13+D14 -> 3622201 | E12: =E13+E14 -> 3622201 | F12: =F13+F14 -> 3622201
A13: 091 Predškolsko i osnovno obrazovanje | B13: 3195669.2 | C13: 3688753 | D13: 3407201 | E13: 3407201 | F13: 3407201
A14: 096 Dodatne usluge u obrazovanju | B14: 192977.19 | C14: 0 | D14: 215000 | E14: 215000 | F14: 215000

Sheet Račun financiranja - ekonomska 
A2: I. OPĆI DIO
A4: 1.3. RAČUN FINANCIRANJA
A6: 1.3.1. RAČUN FINANCIRANJA PREMA EKONOMSKOJ KLASIFIKACIJI
A8: BROJČANA OZNAKA I NAZIV | F8: Izvršenje 2025. | G8: Plan 20256. | H8: Proračun za 2027. | I8: Projekcija proračuna za 2028. | J8: Projekcija proračuna za 2029.
A9: 1 | F9: 2 | G9: 3 | H9: 4 | I9: 5 | J9: 6
A10: 8 | E10: Primici od financijske imovine i zaduživanja | F10: 0 | G10: 0 | H10: 0 | I10: 0 | J10: 0
A11: 5 | E11: Izdaci za financijsku imovinu i otplate zajmova | F11: 0 | G11: 0 | H11: 0 | I11: 0 | J11: 0

Sheet Račun financiranja - izvori 
A2: I. OPĆI DIO
A4: 1.3. RAČUN FINANCIRANJA
A6: 1.3.2. RAČUN FINANCIRANJA PREMA IZVORIMA FINANCIRANJA
A8: BROJČANA OZNAKA I NAZIV | B8: Izvršenje 2025. | C8: Plan 20256. | D8: Proračun za 2027. | E8: Projekcija proračuna za 2028. | F8: Projekcija proračuna za 2029.
A9: 1 | B9: 2 | C9: 3 | D9: 4 | E9: 5 | F9: 6
A10: UKUPNO PRIMICI | B10: 0 | C10: 0 | D10: 0 | E10: 0 | F10: 0
A11: UKUPNO IZDACI | B11: 0 | C11: 0 | D11: 0 | E11: 0 | F11: 0

Sheet Posebni dio
A1: II. POSEBNI DIO
A3: 2.1. PROGRAMSKA KLASIFIKACIJA
A5: Brojčana oznaka i naziv | F5: Izvršenje 2025. | G5: Plan 2026. | H5: Proračun za 2027. | I5: Projekcija proračuna za 2028. | J5: Projekcija proračuna za 2029.
A7: 1 | C7: 2 | G7: 3 | H7: 4 | I7: 5 | J7: 6
A8: 9021 | C8: OŠ Mokošica, Dubrovnik
A9: Ukupno: | F9: =F11+F83+F255+F268 -> 3388646.4 | G9: =G11+G83+G255+G268 -> 3688753 | H9: =H11+H83+H255+H268 -> 3622201 | I9: =I11+I83+I255+I268 -> 3622201 | J9: =J11+J83+J255+J268 -> 3622201
A10: Glava 8-31 | C10: Osnovno školstvo
A11: 18054 DECENTRALIZIRANE FUNKCIJE - MINIMALNI FINANCIJSKI STANDARD | F11: =F12+F64 -> 2521916.7 | G11: =G12+G64 -> 2623025 | H11: =H12+H64 -> 2597000 | I11: =I12+I64 -> 2597000 | J11: =J12+J64 -> 2597000
A12: Aktivnost A18054001 | C12: MATERIJALNI I FINANCIJSKI RASHODI | F12: =F13+F34+F60 -> 173000 | G12: =G13+G34+G60 -> 184000 | H12: =H13+H34+H60 -> 185000 | I12: =I13+I34+I60 -> 185000 | J12: =J13+J34+J60 -> 185000
A13: Izvor 11 | C13: Opći prihodi i primici | F13: =F14 -> 0 | G13: =G14 -> 0 | H13: =H14 -> 118643 | I13: =I14 -> 118643 | J13: =J14 -> 118643
A14: 32 | C14: Materijalni rashodi | F14: =SUM(F15:F33) -> 0 | G14: =SUM(G15:G33) -> 0 | H14: =SUM(H15:H33) -> 118643 | I14: =SUM(I15:I33) -> 118643 | J14: =SUM(J15:J33) -> 118643
A15: 3211 | C15: Službena putovanja | F15: 0 | G15: 0 | H15: 11600 | I15: 11600 | J15: 11600
A16: 3213 | C16: Stručno usavršavanje zaposlenika | F16: 0 | G16: 0 | H16: 1200 | I16: 1200 | J16: 1200
A17: 3221 | C17: Uredski materijal i ostali materijalni rashodi | F17: 0 | G17: 0 | H17: 26500 | I17: 26500 | J17: 26500
A18: 3222 | C18: Materijal i sirovine | F18: 0 | G18: 0 | H18: 200 | I18: 200 | J18: 200
A19: 3224 | C19: Materijal i dijelovi za tekuće i investicijsko održavanje | F19: 0 | G19: 0 | H19: 7000 | I19: 7000 | J19: 7000
A20: 3225 | C20: Sitni inventar i autogume | F20: 0 | G20: 0 | H20: 6000 | I20: 6000 | J20: 6000
A21: 3227 | C21: Službena, radna i zaštitna odjeća i obuća | F21: 0 | G21: 0 | H21: 2000 | I21: 2000 | J21: 2000
A22: 3231 | C22: Usluge telefona, pošte i prijevoza | F22: 0 | G22: 0 | H22: 4800 | I22: 4800 | J22: 4800
A23: 3233 | C23: Usluge promidžbe i informiranja | F23: 0 | G23: 0 | H23: 133 | I23: 133 | J23: 133
A24: 3234 | C24: Komunalne usluge | F24: 0 | G24: 0 | H24: 26050 | I24: 26050 | J24: 26050
A25: 3235 | C25: Zakupnine i najamnine | F25: 0 | G25: 0 | H25: 1830 | I25: 1830 | J25: 1830
A26: 3236 | C26: Zdravstvene i veterinarske usluge | F26: 0 | G26: 0 | H26: 5000 | I26: 5000 | J26: 5000
A27: 3237 | C27: Intelektualne i osobne usluge | F27: 0 | G27: 0 | H27: 10900 | I27: 10900 | J27: 10900
A28: 3238 | C28: Računalne usluge | F28: 0 | G28: 0 | H28: 4500 | I28: 4500 | J28: 4500
A29: 3239 | C29: Ostale usluge | F29: 0 | G29: 0 | H29: 5000 | I29: 5000 | J29: 5000
A30: 3292 | C30: Premije osiguranja | F30: 0 | G30: 0 | H30: 5000 | I30: 5000 | J30: 5000
A31: 3294 | C31: Članarine i norme | F31: 0 | G31: 0 | H31: 345 | I31: 345 | J31: 345
A32: 3295 | C32: Pristojbe i naknade | F32: 0 | G32: 0 | H32: 85 | I32: 85 | J32: 85
A33: 3299 | C33: Ostali nespomenuti rashodi poslovanja | F33: 0 | G33: 0 | H33: 500 | I33: 500 | J33: 500
A34: Izvor 41 | C34: Potpore za decentralizirane izdatke | F34: =F35+F58 -> 173000 | G34: =G35+G58 -> 184000 | H34: =H35+H58 -> 0 | I34: =I35+I58 -> 0 | J34: =J35+J58 -> 0
A35: 32 | C35: Materijalni rashodi | F35: =SUM(F36:F57) -> 171980 | G35: =SUM(G36:G57) -> 183000 | H35: =SUM(H36:H57) -> 0 | I35: =SUM(I36:I57) -> 0 | J35: =SUM(J36:J57) -> 0
A36: 3211 | C36: Službena putovanja | F36: 10815.07 | G36: 11100 | H36: 0 | I36: 0 | J36: 0
A37: 3213 | C37: Stručno usavršavanje zaposlenika | F37: 905.25 | G37: 1200 | H37: 0 | I37: 0 | J37: 0
A38: 3221 | C38: Uredski materijal i ostali materijalni rashodi | F38: 22842.2 | G38: 22500 | H38: 0 | I38: 0 | J38: 0
A39: 3222 | C39: Materijal i sirovine | F39: 102.78 | G39: 200 | H39: 0 | I39: 0 | J39: 0
A40: 3223 | C40: Energija | F40: 18836.45 | G40: 24040 | H40: 0 | I40: 0 | J40: 0
A41: 3224 | C41: Materijal i dijelovi za tekuće i investicijsko održavanje | F41: 6129.18 | G41: 6000 | H41: 0 | I41: 0 | J41: 0
A42: 3225 | C42: Sitni inventar i autogume | F42: 2777.52 | G42: 4000 | H42: 0 | I42: 0 | J42: 0
A43: 3227 | C43: Službena, radna i zaštitna odjeća i obuća | F43: 1368.21 | G43: 1500 | H43: 0 | I43: 0 | J43: 0
...
