Workbook

Sheet Naslovna strana
A6: REPUBLIKA HRVATSKA
A7: Osnovna škola Mokošica, Dubrovnik
A8: RKP broj: | B8: 9021
A9: Razina: | B9: 31
A11: KLASA: | B11: 400-01/26-01/6
A12: URBROJ: | B12: 2117-1-126-03-26-1
A13: Dubrovnik, 30.9.2026. godine
A16: PRIJEDLOG FINANCIJSKOG PLANA ZA 2027. GODINU S PROJEKCIJAMA ZA 2028. GODINU I 2029. GODINU

Sheet Sažetak
A1: PRIJEDLOG FINANCIJSKOG PLANA ZA 2027. GODINU S PROJEKCIJAMA ZA 2028. GODINU I 2029. GODINU
A3: I. OPĆI DIO
A5: 1.1. SAŽETAK RAČUNA PRIHODA I RASHODA I RAČUNA FINANCIRANJA
A7: A) SAŽETAK RAČUNA PRIHODA I RASHODA
A9: BROJČANA OZNAKA I NAZIV | F9: Izvršenje 2025. | G9: Plan 2026. | H9: Proračun za 2027. | I9: Projekcija proračuna za 2028. | J9: Projekcija proračuna za 2029.
A10: PRIHODI UKUPNO | F10: =SUM(F11:F12) -> 3127880.3 | G10: =SUM(G11:G12) -> 3688753 | H10: =SUM(H11:H12) -> 3622201 | I10: =SUM(I11:I12) -> 3622201 | J10: =SUM(J11:J12) -> 3622201
A11: 6 PRIHODI POSLOVANJA | F11: 3127880.3 | G11: 3688753 | H11: ='Ekonomska klasifikacija'!H11 -> 3622201 | I11: ='Ekonomska klasifikacija'!I11 -> 3622201 | J11: ='Ekonomska klasifikacija'!J11 -> 3622201
A12: 7 PRIHODI OD PRODAJE NEFINANCIJSKE IMOVINE | F12: 0 | G12: 0 | H12: 0 | I12: 0 | J12: 0
A13: RASHODI UKUPNO | F13: =SUM(F14:F15) -> 3388646.4 | G13: =SUM(G14:G15) -> 3688753 | H13: =SUM(H14:H15) -> 3622201 | I13: =SUM(I14:I15) -> 3622201 | J13: =SUM(J14:J15) -> 3622201
A14: 3 RASHODI POSLOVANJA | F14: 3297948 | G14: 3607353 | H14: ='Ekonomska klasifikacija'!H36 -> 3528851 | I14: ='Ekonomska klasifikacija'!I36 -> 3528851 | J14: ='Ekonomska klasifikacija'!J36 -> 3528851
A15: 4 RASHODI ZA NABAVU NEFINANCIJSKE IMOVINE | F15: 90698.4 | G15: 81400 | H15: ='Ekonomska klasifikacija'!H82 -> 93350 | I15: ='Ekonomska klasifikacija'!I82 -> 93350 | J15: ='Ekonomska klasifikacija'!J82 -> 93350
A16: RAZLIKA - VIŠAK / MANJAK | F16: =F10-F13 -> -260766.09 | G16: =G10-G13 -> 0 | H16: =H10-H13 -> 0 | I16: =I10-I13 -> 0 | J16: =J10-J13 -> 0
A18: B) SAŽETAK RAČUNA FINANCIRANJA
A20: BROJČANA OZNAKA I NAZIV | F20: Izvršenje 2025. | G20: Plan 2026. | H20: Proračun za 2027. | I20: Projekcija proračuna za 2028. | J20: Projekcija proračuna za 2029.
A21: 8 PRIMICI OD FINANCIJSKE IMOVINE I ZADUŽIVANJA | F21: 0 | G21: 0 | H21: 0 | I21: 0 | J21: 0
A22: 5 IZDACI ZA FINANCIJSKU IMOVINU I OTPLATE ZAJMOVA | F22: 0 | G22: 0 | H22: 0 | I22: 0 | J22: 0
A23: NETO FINANCIRANJE | F23: 0 | G23: 0 | H23: 0 | I23: 0 | J23: 0
A25: C) PRENESENI VIŠAK ILI PRENESENI MANJAK
A27: BROJČANA OZNAKA I NAZIV | F27: Izvršenje 2025. | G27: Plan 2026. | H27: Proračun za 2027. | I27: Projekcija proračuna za 2028. | J27: Projekcija proračuna za 2029.
A28: Preneseni višak iz prethodne godine | F28: 9248.47 | G28: 0 | H28: 0 | I28: 0 | J28: 0
A29: Preneseni manjak iz prethodne godine | F29: -260766.09 | G29: 0 | H29: -251518 | I29: -251518 | J29: -251518
A30: PRIJENOS VIŠKA / MANJKA U SLJEDEĆE RAZDOBLJE | F30: =F28+F29 -> -251517.62 | G30: =G28+G29 -> 0 | H30: =H28+H29 -> -251518 | I30: =I28+I29 -> -251518 | J30: =J28+J29 -> -251518
A32: D) VIŠEGODIŠNJI PLAN URAVNOTEŽENJA
A34: BROJČANA OZNAKA I NAZIV | F34: Izvršenje 2025. | G34: Plan 2026. | H34: Proračun za 2027. | I34: Projekcija proračuna za 2028. | J34: Projekcija proračuna za 2029.
A35: Ukupno za uravnoteženje (A+B+C) | F35: -251517.62 | G35: 0 | H35: -251518 | I35: -251518 | J35: -251518
A36: Planirani manjak za pokriće u idućem razdoblju | F36: 0 | G36: 0 | H36: 0 | I36: 0 | J36: 0
A37: PRIJENOS VIŠKA / MANJKA U SLJEDEĆE RAZDOBLJE | F37: =F35+F36 -> -251517.62 | G37: 0 | H37: =H35+H36 -> -251518 | I37: =I35+I36 -> -251518 | J37: =J35+J36 -> -251518

Sheet Ekonomska klasifikacija
A2: I. OPĆI DIO
A4: 1.2. RAČUN PRIHODA I RASHODA
A6: 1.2.1. PRIHODI I RASHODI POSLOVANJA PREMA EKONOMSKOJ KLASIFIKACIJI
A8: BROJČANA OZNAKA I NAZIV | F8: Izvršenje 2025. | G8: Plan 2026. | H8: Proračun za 2027. | I8: Projekcija proračuna za 2028. | J8: Projekcija proračuna za 2029.
A9: 1 | F9: 2 | G9: 3 | H9: 4 | I9: 5 | J9: 6
E10: UKUPNO PRIHODI | F10: =F11 -> 3127880.3 | G10: =G11 -> 3688753 | H10: =H11 -> 3622201 | I10: =I11 -> 3622201 | J10: =J11 -> 3622201
A11: 6 | E11: Prihodi poslovanja | F11: =F12+F16+F19+F22+F28 -> 3127880.3 | G11: =G12+G16+G19+G22+G28 -> 3688753 | H11: =H12+H16+H19+H22+H28 -> 3622201 | I11: =I12+I16+I19+I22+I28 -> 3622201 | J11: =J12+J16+J19+J22+J28 -> 3622201
B12: 63 | E12: Pomoći iz inozemstva i od subjekata unutar općeg proračuna | F12: =F13 -> 2378709.3 | G12: =G13 -> 2672410 | H12: =H13 -> 2640036 | I12: =I13 -> 2640036 | J12: =J13 -> 2640036
C13: 636 | E13: Pomoći proračunskim korisnicima iz proračuna koji im nije nadležan | F13: =SUM(F14:F15) -> 2378709.3 | G13: =SUM(G14:G15) -> 2672410 | H13: =SUM(H14:H15) -> 2640036 | I13: =SUM(I14:I15) -> 2640036 | J13: =SUM(J14:J15) -> 2640036
D14: 6361 | E14: Tekuće pomoći proračunskim korisnicima iz proračuna koji im nije nadležan | F14: 2331576.8 | G14: 2625910 | H14: 2585536 | I14: 2585536 | J14: 2585536
D15: 6362 | E15: Kapitalne pomoći proračunskim korisnicima iz proračuna koji im nije nadležan | F15: 47132.46 | G15: 46500 | H15: 54500 | I15: 54500 | J15: 54500
B16: 64 | E16: Prihodi od imovine | F16: =F17 -> 0.36 | G16: =G17 -> 0 | H16: =H17 -> 1 | I16: =I17 -> 1 | J16: =J17 -> 1
C17: 641 | E17: Prihodi od financijske imovine | F17: =F18 -> 0.36 | G17: =G18 -> 0 | H17: =H18 -> 1 | I17: =I18 -> 1 | J17: =J18 -> 1
D18: 6413 | E18: Kamate na depozite po viđenju | F18: 0.36 | G18: 0 | H18: 1 | I18: 1 | J18: 1
B19: 65 | E19: Prihodi od upravnih i administrativnih pristojbi, pristojbi po posebnim propisima i naknadama | F19: =F20 -> 66015.89 | G19: =G20 -> 57742 | H19: =H20 -> 90400 | I19: =I20 -> 90400 | J19: =J20 -> 90400
C20: 652 | E20: Prihodi po posebnim propisima | F20: =F21 -> 66015.89 | G20: =G21 -> 57742 | H20: =H21 -> 90400 | I20: =I21 -> 90400 | J20: =J21 -> 90400
D21: 6526 | E21: Ostali nespomenuti prihodi | F21: 66015.89 | G21: 57742 | H21: 90400 | I21: 90400 | J21: 90400
B22: 66 | E22: Prihodi od prodaje proizvoda i robe te pruženih usluga, prihodi od donacija te povrati po protestiranim jamstvima | F22: =F23+F25 -> 13671.02 | G22: =G23+G25 -> 6600 | H22: =H23+H25 -> 8399 | I22: =I23+I25 -> 8399 | J22: =J23+J25 -> 8399
C23: 661 | E23: Prihodi od prodaje proizvoda i robe te pruženih usluga | F23: =F24 -> 4140.3 | G23: =G24 -> 4100 | H23: =H24 -> 4099 | I23: =I24 -> 4099 | J23: =J24 -> 4099
D24: 6615 | E24: Prihodi od pruženih usluga | F24: 4140.3 | G24: 4100 | H24: 4099 | I24: 4099 | J24: 4099
C25: 663 | E25: Donacije od pravnih i fizičkih osoba izvan općeg proračuna i povrat donacija po protestiranim jamstvima | F25: =SUM(F26:F27) -> 9530.72 | G25: =SUM(G26:G27) -> 2500 | H25: =SUM(H26:H27) -> 4300 | I25: =SUM(I26:I27) -> 4300 | J25: =SUM(J26:J27) -> 4300
D26: 6631 | E26: Tekuće donacije | F26: 651.76 | G26: 0 | H26: 800 | I26: 800 | J26: 800
D27: 6632 | E27: Kapitalne donacije | F27: 8878.96 | G27: 2500 | H27: 3500 | I27: 3500 | J27: 3500
B28: 67 | E28: Prihodi iz nadležnog proračuna i od HZZO-a temeljem ugovornih obveza | F28: =F29 -> 669483.76 | G28: =G29 -> 952001 | H28: =H29 -> 883365 | I28: =I29 -> 883365 | J28: =J29 -> 883365
C29: 671 | E29: Prihodi iz nadlženog proračuna za financiranje redovne djelatnosti proračunskih korisnika | F29: =SUM(F30:F31) -> 669483.76 | G29: =SUM(G30:G31) -> 952001 | H29: =SUM(H30:H31) -> 883365 | I29: =SUM(I30:I31) -> 883365 | J29: =SUM(J30:J31) -> 883365
D30: 6711 | E30: Prihodi iz nadležnog proračuna za financiranje rashoda poslovanja | F30: 642483.76 | G30: 922001 | H30: 850015 | I30: 850015 | J30: 850015
D31: 6712 | E31: Prihodi iz nadležnog proračuna za financiranje rashoda za nabavu nefinancijske imovine | F31: 27000 | G31: 30000 | H31: 33350 | I31: 33350 | J31: 33350
A33: BROJČANA OZNAKA I NAZIV | F33: Izvršenje 2025. | G33: Plan 2026. | H33: Proračun za 2027. | I33: Projekcija proračuna za 2028. | J33: Projekcija proračuna za 2029.
A34: 1 | F34: 2 | G34: 3 | H34: 4 | I34: 5 | J34: 6
E35: UKUPNO RASHODI | F35: =F36+F82 -> 3388646.4 | G35: =G36+G82 -> 3688753 | H35: =H36+H82 -> 3622201 | I35: =I36+I82 -> 3622201 | J35: =J36+J82 -> 3622201
A36: 3 | E36: Rashodi poslovanja | F36: =F37+F45+F73+F76+F79 -> 3297948 | G36: =G37+G45+G73+G76+G79 -> 3607353 | H36: =H37+H45+H73+H76+H79 -> 3528851 | I36: =I37+I45+I73+I76+I79 -> 3528851 | J36: =J37+J45+J73+J76+J79 -> 3528851
B37: 31 | E37: Rashodi za zaposlene | F37: =F38+F41+F43 -> 2705954.8 | G37: =G38+G41+G43 -> 2915300 | H37: =H38+H41+H43 -> 2984461 | I37: =I38+I41+I43 -> 2984461 | J37: =J38+J41+J43 -> 2984461
C38: 311 | E38: Plaće (Bruto) | F38: =SUM(F39:F40) -> 2238891.4 | G38: =SUM(G39:G40) -> 2413951 | H38: =SUM(H39:H40) -> 2472090 | I38: =SUM(I39:I40) -> 2472090 | J38: =SUM(J39:J40) -> 2472090
D39: 3111 | E39: Plaće za redovan rad | F39: ='Posebni dio'!F67+'Posebni dio'!F76+'Posebni dio'!F117+'Posebni dio'!F138+'Posebni dio'!F168+'Posebni dio'!F205+'Posebni dio'!F213+'Posebni dio'!F221+'Posebni dio'!F227+'Posebni dio'!F87 -> 2238891.4 | G39: ='Posebni dio'!G67+'Posebni dio'!G76+'Posebni dio'!G117+'Posebni dio'!G138+'Posebni dio'!G168+'Posebni dio'!G205+'Posebni dio'!G213+'Posebni dio'!G221+'Posebni dio'!G227+'Posebni dio'!G87 -> 2388951 | H39: ='Posebni dio'!H67+'Posebni dio'!H76+'Posebni dio'!H117+'Posebni dio'!H138+'Posebni dio'!H168+'Posebni dio'!H205+'Posebni dio'!H213+'Posebni dio'!H221+'Posebni dio'!H227+'Posebni dio'!H87 -> 2432090 | I39: ='Posebni dio'!I67+'Posebni dio'!I76+'Posebni dio'!I117+'Posebni dio'!I138+'Posebni dio'!I168+'Posebni dio'!I205+'Posebni dio'!I213+'Posebni dio'!I221+'Posebni dio'!I227+'Posebni dio'!I87 -> 2432090 | J39: ='Posebni dio'!J67+'Posebni dio'!J76+'Posebni dio'!J117+'Posebni dio'!J138+'Posebni dio'!J168+'Posebni dio'!J205+'Posebni dio'!J213+'Posebni dio'!J221+'Posebni dio'!J227+'Posebni dio'!J87 -> 2432090
D40: 3113 | E40: Plaće za prekovremeni rad | F40: ='Posebni dio'!F68+'Posebni dio'!F77+'Posebni dio'!F169 -> 0 | G40: ='Posebni dio'!G68+'Posebni dio'!G77+'Posebni dio'!G169 -> 25000 | H40: ='Posebni dio'!H68+'Posebni dio'!H77+'Posebni dio'!H169 -> 40000 | I40: ='Posebni dio'!I68+'Posebni dio'!I77+'Posebni dio'!I169 -> 40000 | J40: ='Posebni dio'!J68+'Posebni dio'!J77+'Posebni dio'!J169 -> 40000
C41: 312 | E41: Ostali rashodi za zaposlene | F41: =F42 -> 99741.89 | G41: =G42 -> 106100 | H41: =H42 -> 104200 | I41: =I42 -> 104200 | J41: =J42 -> 104200
D42: 3121 | E42: Ostali rashodi za zaposlene | F42: ='Posebni dio'!F69+'Posebni dio'!F78+'Posebni dio'!F170+'Posebni dio'!F206+'Posebni dio'!F214 -> 99741.89 | G42: ='Posebni dio'!G69+'Posebni dio'!G78+'Posebni dio'!G170+'Posebni dio'!G206+'Posebni dio'!G214 -> 106100 | H42: ='Posebni dio'!H69+'Posebni dio'!H78+'Posebni dio'!H170+'Posebni dio'!H206+'Posebni dio'!H214 -> 104200 | I42: ='Posebni dio'!I69+'Posebni dio'!I78+'Posebni dio'!I170+'Posebni dio'!I206+'Posebni dio'!I214 -> 104200 | J42: ='Posebni dio'!J69+'Posebni dio'!J78+'Posebni dio'!J170+'Posebni dio'!J206+'Posebni dio'!J214 -> 104200
C43: 313 | E43: Doprinosi na plaće | F43: =F44 -> 367321.58 | G43: =G44 -> 395249 | H43: =H44 -> 408171 | I43: =I44 -> 408171 | J43: =J44 -> 408171
D44: 3132 | E44: Doprinosi za obvezno zdravstveno osiguranje | F44: ='Posebni dio'!F70+'Posebni dio'!F79+'Posebni dio'!F118+'Posebni dio'!F139+'Posebni dio'!F171+'Posebni dio'!F207+'Posebni dio'!F215+'Posebni dio'!F222+'Posebni dio'!F228 -> 367321.58 | G44: ='Posebni dio'!G70+'Posebni dio'!G79+'Posebni dio'!G118+'Posebni dio'!G139+'Posebni dio'!G171+'Posebni dio'!G207+'Posebni dio'!G215+'Posebni dio'!G222+'Posebni dio'!G228 -> 395249 | H44: ='Posebni dio'!H70+'Posebni dio'!H79+'Posebni dio'!H118+'Posebni dio'!H139+'Posebni dio'!H171+'Posebni dio'!H207+'Posebni dio'!H215+'Posebni dio'!H222+'Posebni dio'!H228+'Posebni dio'!H88 -> 408171 | I44: ='Posebni dio'!I70+'Posebni dio'!I79+'Posebni dio'!I118+'Posebni dio'!I139+'Posebni dio'!I171+'Posebni dio'!I207+'Posebni dio'!I215+'Posebni dio'!I222+'Posebni dio'!I228+'Posebni dio'!I88 -> 408171 | J44: ='Posebni dio'!J70+'Posebni dio'!J79+'Posebni dio'!J118+'Posebni dio'!J139+'Posebni dio'!J171+'Posebni dio'!J207+'Posebni dio'!J215+'Posebni dio'!J222+'Posebni dio'!J228+'Posebni dio'!J88 -> 408171
B45: 32 | E45: Materijalni rashodi | F45: =F46+F50+F57+F67 -> 528567.8 | G45: =G46+G50+G57+G67 -> 687253 | H45: =H46+H50+H57+H67 -> 538490 | I45: =I46+I50+I57+I67 -> 538490 | J45: =J46+J50+J57+J67 -> 538490
C46: 321 | E46: Naknade troškova zaposlenima | F46: =SUM(F47:F49) -> 54934.78 | G46: =SUM(G47:G49) -> 59710 | H46: =SUM(H47:H49) -> 57760 | I46: =SUM(I47:I49) -> 57760 | J46: =SUM(J47:J49) -> 57760
D47: 3211 | E47: Službena putovanja | F47: ='Posebni dio'!F15+'Posebni dio'!F36+'Posebni dio'!F120+'Posebni dio'!F141+'Posebni dio'!F176 -> 11518.4 | G47: ='Posebni dio'!G15+'Posebni dio'!G36+'Posebni dio'!G120+'Posebni dio'!G141+'Posebni dio'!G176 -> 11810 | H47: ='Posebni dio'!H15+'Posebni dio'!H36+'Posebni dio'!H120+'Posebni dio'!H141+'Posebni dio'!H176 -> 12610 | I47: ='Posebni dio'!I15+'Posebni dio'!I36+'Posebni dio'!I120+'Posebni dio'!I141+'Posebni dio'!I176 -> 12610 | J47: ='Posebni dio'!J15+'Posebni dio'!J36+'Posebni dio'!J120+'Posebni dio'!J141+'Posebni dio'!J176 -> 12610
D48: 3212 | E48: Naknade za prijevoz za rad na terenu i odvojeni život | F48: ='Posebni dio'!F72+'Posebni dio'!F81+'Posebni dio'!F173+'Posebni dio'!F209+'Posebni dio'!F217+'Posebni dio'!F224+'Posebni dio'!F230 -> 42411.13 | G48: ='Posebni dio'!G72+'Posebni dio'!G81+'Posebni dio'!G173+'Posebni dio'!G209+'Posebni dio'!G217+'Posebni dio'!G224+'Posebni dio'!G230 -> 46600 | H48: ='Posebni dio'!H72+'Posebni dio'!H81+'Posebni dio'!H173+'Posebni dio'!H209+'Posebni dio'!H217+'Posebni dio'!H224+'Posebni dio'!H230 -> 43650 | I48: ='Posebni dio'!I72+'Posebni dio'!I81+'Posebni dio'!I173+'Posebni dio'!I209+'Posebni dio'!I217+'Posebni dio'!I224+'Posebni dio'!I230 -> 43650 | J48: ='Posebni dio'!J72+'Posebni dio'!J81+'Posebni dio'!J173+'Posebni dio'!J209+'Posebni dio'!J217+'Posebni dio'!J224+'Posebni dio'!J230 -> 43650
D49: 3213 | E49: Stručno usavršavanje zaposlenika | F49: ='Posebni dio'!F16+'Posebni dio'!F37+'Posebni dio'!F121+'Posebni dio'!F142 -> 1005.25 | G49: ='Posebni dio'!G16+'Posebni dio'!G37+'Posebni dio'!G121+'Posebni dio'!G142 -> 1300 | H49: ='Posebni dio'!H16+'Posebni dio'!H37+'Posebni dio'!H121+'Posebni dio'!H142 -> 1500 | I49: ='Posebni dio'!I16+'Posebni dio'!I37+'Posebni dio'!I121+'Posebni dio'!I142 -> 1500 | J49: ='Posebni dio'!J16+'Posebni dio'!J37+'Posebni dio'!J121+'Posebni dio'!J142 -> 1500
C50: 322 | E50: Rashod za materijal i energiju | F50: =SUM(F51:F56) -> 270089.61 | G50: =SUM(G51:G56) -> 299555 | H50: =SUM(H51:H56) -> 331780 | I50: =SUM(I51:I56) -> 331780 | J50: =SUM(J51:J56) -> 331780
D51: 3221 | E51: Uredski materijal i ostali materijalni rashodi | F51: ='Posebni dio'!F17+'Posebni dio'!F38+'Posebni dio'!F101+'Posebni dio'!F110+'Posebni dio'!F122+'Posebni dio'!F134+'Posebni dio'!F143+'Posebni dio'!F158+'Posebni dio'!F177+'Posebni dio'!F188 -> 28198.21 | G51: ='Posebni dio'!G17+'Posebni dio'!G38+'Posebni dio'!G101+'Posebni dio'!G110+'Posebni dio'!G122+'Posebni dio'!G134+'Posebni dio'!G143+'Posebni dio'!G158+'Posebni dio'!G177+'Posebni dio'!G188+'Posebni dio'!G90 -> 26615 | H51: ='Posebni dio'!H17+'Posebni dio'!H38+'Posebni dio'!H101+'Posebni dio'!H110+'Posebni dio'!H122+'Posebni dio'!H134+'Posebni dio'!H143+'Posebni dio'!H158+'Posebni dio'!H177+'Posebni dio'!H188+'Posebni dio'!H90 -> 35180 | I51: ='Posebni dio'!I17+'Posebni dio'!I38+'Posebni dio'!I101+'Posebni dio'!I110+'Posebni dio'!I122+'Posebni dio'!I134+'Posebni dio'!I143+'Posebni dio'!I158+'Posebni dio'!I177+'Posebni dio'!I188+'Posebni dio'!I90 -> 35180 | J51: ='Posebni dio'!J17+'Posebni dio'!J38+'Posebni dio'!J101+'Posebni dio'!J110+'Posebni dio'!J122+'Posebni dio'!J134+'Posebni dio'!J143+'Posebni dio'!J158+'Posebni dio'!J177+'Posebni dio'!J188+'Posebni dio'!J90 -> 35180
D52: 3222 | E52: Materijal i sirovine | F52: ='Posebni dio'!F18+'Posebni dio'!F39+'Posebni dio'!F178+'Posebni dio'!F189+'Posebni dio'!F241+'Posebni dio'!F247+'Posebni dio'!F249+'Posebni dio'!F254 -> 193079.97 | G52: ='Posebni dio'!G18+'Posebni dio'!G39+'Posebni dio'!G178+'Posebni dio'!G189+'Posebni dio'!G241+'Posebni dio'!G247+'Posebni dio'!G249+'Posebni dio'!G254 -> 218000 | H52: ='Posebni dio'!H18+'Posebni dio'!H39+'Posebni dio'!H178+'Posebni dio'!H189+'Posebni dio'!H241+'Posebni dio'!H247+'Posebni dio'!H249+'Posebni dio'!H254 -> 221800 | I52: ='Posebni dio'!I18+'Posebni dio'!I39+'Posebni dio'!I178+'Posebni dio'!I189+'Posebni dio'!I241+'Posebni dio'!I247+'Posebni dio'!I249+'Posebni dio'!I254 -> 221800 | J52: ='Posebni dio'!J18+'Posebni dio'!J39+'Posebni dio'!J178+'Posebni dio'!J189+'Posebni dio'!J241+'Posebni dio'!J247+'Posebni dio'!J249+'Posebni dio'!J254 -> 221800
D53: 3223 | E53: Energija | F53: ='Posebni dio'!F40+'Posebni dio'!F62+'Posebni dio'!F91+'Posebni dio'!F102+'Posebni dio'!F144+'Posebni dio'!F179 -> 34033.87 | G53: ='Posebni dio'!G40+'Posebni dio'!G62+'Posebni dio'!G91+'Posebni dio'!G102+'Posebni dio'!G144+'Posebni dio'!G179 -> 40040 | H53: ='Posebni dio'!H40+'Posebni dio'!H62+'Posebni dio'!H91+'Posebni dio'!H102+'Posebni dio'!H144+'Posebni dio'!H179 -> 52040 | I53: ='Posebni dio'!I40+'Posebni dio'!I62+'Posebni dio'!I91+'Posebni dio'!I102+'Posebni dio'!I144+'Posebni dio'!I179 -> 52040 | J53: ='Posebni dio'!J40+'Posebni dio'!J62+'Posebni dio'!J91+'Posebni dio'!J102+'Posebni dio'!J144+'Posebni dio'!J179 -> 52040
D54: 3224 | E54: Materijal i dijelovi za tekuće i investicijsko održavanje | F54: ='Posebni dio'!F19+'Posebni dio'!F41 -> 6129.18 | G54: ='Posebni dio'!G19+'Posebni dio'!G41 -> 6000 | H54: ='Posebni dio'!H19+'Posebni dio'!H41 -> 7000 | I54: ='Posebni dio'!I19+'Posebni dio'!I41 -> 7000 | J54: ='Posebni dio'!J19+'Posebni dio'!J41 -> 7000
D55: 3225 | E55: Sitni inventar i auto gume | F55: ='Posebni dio'!F20+'Posebni dio'!F42+'Posebni dio'!F103+'Posebni dio'!F111+'Posebni dio'!F123+'Posebni dio'!F135+'Posebni dio'!F145+'Posebni dio'!F159+'Posebni dio'!F180+'Posebni dio'!F190 -> 6882.32 | G55: ='Posebni dio'!G20+'Posebni dio'!G42+'Posebni dio'!G103+'Posebni dio'!G111+'Posebni dio'!G123+'Posebni dio'!G135+'Posebni dio'!G145+'Posebni dio'!G159+'Posebni dio'!G180+'Posebni dio'!G190 -> 7200 | H55: ='Posebni dio'!H20+'Posebni dio'!H42+'Posebni dio'!H103+'Posebni dio'!H111+'Posebni dio'!H123+'Posebni dio'!H135+'Posebni dio'!H145+'Posebni dio'!H159+'Posebni dio'!H180+'Posebni dio'!H190+'Posebni dio'!H92 -> 13260 | I55: ='Posebni dio'!I20+'Posebni dio'!I42+'Posebni dio'!I103+'Posebni dio'!I111+'Posebni dio'!I123+'Posebni dio'!I135+'Posebni dio'!I145+'Posebni dio'!I159+'Posebni dio'!I180+'Posebni dio'!I190+'Posebni dio'!I92 -> 13260 | J55: ='Posebni dio'!J20+'Posebni dio'!J42+'Posebni dio'!J103+'Posebni dio'!J111+'Posebni dio'!J123+'Posebni dio'!J135+'Posebni dio'!J145+'Posebni dio'!J159+'Posebni dio'!J180+'Posebni dio'!J190+'Posebni dio'!J92 -> 13260
D56: 3227 | E56: Službena, radna i zaštitna odjeća i obuća | F56: ='Posebni dio'!F21+'Posebni dio'!F43+'Posebni dio'!F181+'Posebni dio'!F191 -> 1766.06 | G56: ='Posebni dio'!G21+'Posebni dio'!G43+'Posebni dio'!G181+'Posebni dio'!G191 -> 1700 | H56: ='Posebni dio'!H21+'Posebni dio'!H43+'Posebni dio'!H181+'Posebni dio'!H191 -> 2500 | I56: ='Posebni dio'!I21+'Posebni dio'!I43+'Posebni dio'!I181+'Posebni dio'!I191 -> 2500 | J56: ='Posebni dio'!J21+'Posebni dio'!J43+'Posebni dio'!J181+'Posebni dio'!J191 -> 2500
C57: 323 | E57: Rashodi za usluge | F57: =SUM(F58:F66) -> 196526.41 | G57: =SUM(G58:G66) -> 321139 | H57: =SUM(H58:H66) -> 137420 | I57: =SUM(I58:I66) -> 137420 | J57: =SUM(J58:J66) -> 137420
D58: 3231 | E58: Usluge telefona, pošte i prijevoza | F58: ='Posebni dio'!F22+'Posebni dio'!F44+'Posebni dio'!F146 -> 3857.94 | G58: ='Posebni dio'!G22+'Posebni dio'!G44+'Posebni dio'!G146 -> 4800 | H58: ='Posebni dio'!H22+'Posebni dio'!H44+'Posebni dio'!H146 -> 4800 | I58: ='Posebni dio'!I22+'Posebni dio'!I44+'Posebni dio'!I146 -> 4800 | J58: ='Posebni dio'!J22+'Posebni dio'!J44+'Posebni dio'!J146 -> 4800
D59: 3232 | E59: Usluge tekućeg i investicijskog održavanja | F59: ='Posebni dio'!F45+'Posebni dio'!F63+'Posebni dio'!F93+'Posebni dio'!F147+'Posebni dio'!F182+'Posebni dio'!F192+'Posebni dio'!F201 -> 119449.47 | G59: ='Posebni dio'!G45+'Posebni dio'!G63+'Posebni dio'!G93+'Posebni dio'!G147+'Posebni dio'!G182+'Posebni dio'!G192+'Posebni dio'!G201 -> 244928 | H59: ='Posebni dio'!H45+'Posebni dio'!H63+'Posebni dio'!H93+'Posebni dio'!H147+'Posebni dio'!H182+'Posebni dio'!H192+'Posebni dio'!H201 -> 63317 | I59: ='Posebni dio'!I45+'Posebni dio'!I63+'Posebni dio'!I93+'Posebni dio'!I147+'Posebni dio'!I182+'Posebni dio'!I192+'Posebni dio'!I201 -> 63317 | J59: ='Posebni dio'!J45+'Posebni dio'!J63+'Posebni dio'!J93+'Posebni dio'!J147+'Posebni dio'!J182+'Posebni dio'!J192+'Posebni dio'!J201 -> 63317
D60: 3233 | E60: Usluge promidžbe i informiranja | F60: ='Posebni dio'!F23+'Posebni dio'!F46 -> 127.44 | G60: ='Posebni dio'!G23+'Posebni dio'!G46 -> 133 | H60: ='Posebni dio'!H23+'Posebni dio'!H46 -> 133 | I60: ='Posebni dio'!I23+'Posebni dio'!I46 -> 133 | J60: ='Posebni dio'!J23+'Posebni dio'!J46 -> 133
D61: 3234 | E61: Komunalne usluge | F61: ='Posebni dio'!F24+'Posebni dio'!F47+'Posebni dio'!F104+'Posebni dio'!F148+'Posebni dio'!F183+'Posebni dio'!F193 -> 24191.81 | G61: ='Posebni dio'!G24+'Posebni dio'!G47+'Posebni dio'!G104+'Posebni dio'!G148+'Posebni dio'!G183+'Posebni dio'!G193 -> 23647 | H61: ='Posebni dio'!H24+'Posebni dio'!H47+'Posebni dio'!H104+'Posebni dio'!H148+'Posebni dio'!H183+'Posebni dio'!H193 -> 26950 | I61: ='Posebni dio'!I24+'Posebni dio'!I47+'Posebni dio'!I104+'Posebni dio'!I148+'Posebni dio'!I183+'Posebni dio'!I193 -> 26950 | J61: ='Posebni dio'!J24+'Posebni dio'!J47+'Posebni dio'!J104+'Posebni dio'!J148+'Posebni dio'!J183+'Posebni dio'!J193 -> 26950
D62: 3235 | E62: Zakupnine i najamnine | F62: ='Posebni dio'!F25+'Posebni dio'!F48+'Posebni dio'!F149 -> 2126.87 | G62: ='Posebni dio'!G25+'Posebni dio'!G48+'Posebni dio'!G149 -> 1830 | H62: ='Posebni dio'!H25+'Posebni dio'!H48+'Posebni dio'!H149 -> 1830 | I62: ='Posebni dio'!I25+'Posebni dio'!I48+'Posebni dio'!I149 -> 1830 | J62: ='Posebni dio'!J25+'Posebni dio'!J48+'Posebni dio'!J149 -> 1830
D63: 3236 | E63: Zdravstvene i veterinarske usluge | F63: ='Posebni dio'!F26+'Posebni dio'!F49+'Posebni dio'!F184+'Posebni dio'!F194+'Posebni dio'!F218 -> 4097.35 | G63: ='Posebni dio'!G26+'Posebni dio'!G49+'Posebni dio'!G184+'Posebni dio'!G194+'Posebni dio'!G218 -> 9100 | H63: ='Posebni dio'!H26+'Posebni dio'!H49+'Posebni dio'!H184+'Posebni dio'!H194+'Posebni dio'!H218 -> 6500 | I63: ='Posebni dio'!I26+'Posebni dio'!I49+'Posebni dio'!I184+'Posebni dio'!I194+'Posebni dio'!I218 -> 6500 | J63: ='Posebni dio'!J26+'Posebni dio'!J49+'Posebni dio'!J184+'Posebni dio'!J194+'Posebni dio'!J218 -> 6500
D64: 3237 | E64: Intelektualne i osobne usluge | F64: ='Posebni dio'!F27+'Posebni dio'!F50+'Posebni dio'!F105+'Posebni dio'!F112 -> 2107.64 | G64: ='Posebni dio'!G27+'Posebni dio'!G50+'Posebni dio'!G105+'Posebni dio'!G112 -> 750 | H64: ='Posebni dio'!H27+'Posebni dio'!H50+'Posebni dio'!H105+'Posebni dio'!H112 -> 11400 | I64: ='Posebni dio'!I27+'Posebni dio'!I50+'Posebni dio'!I105+'Posebni dio'!I112 -> 11400 | J64: ='Posebni dio'!J27+'Posebni dio'!J50+'Posebni dio'!J105+'Posebni dio'!J112 -> 11400
D65: 3238 | E65: Računalne usluge | F65: ='Posebni dio'!F28+'Posebni dio'!F51+'Posebni dio'!F185+'Posebni dio'!F195 -> 4797.1 | G65: ='Posebni dio'!G28+'Posebni dio'!G51+'Posebni dio'!G185+'Posebni dio'!G195 -> 4500 | H65: ='Posebni dio'!H28+'Posebni dio'!H51+'Posebni dio'!H185+'Posebni dio'!H195 -> 5500 | I65: ='Posebni dio'!I28+'Posebni dio'!I51+'Posebni dio'!I185+'Posebni dio'!I195 -> 5500 | J65: ='Posebni dio'!J28+'Posebni dio'!J51+'Posebni dio'!J185+'Posebni dio'!J195 -> 5500
D66: 3239 | E66: Ostale usluge | F66: ='Posebni dio'!F29+'Posebni dio'!F52+'Posebni dio'!F94+'Posebni dio'!F106+'Posebni dio'!F113+'Posebni dio'!F150+'Posebni dio'!F160 -> 35770.79 | G66: ='Posebni dio'!G29+'Posebni dio'!G52+'Posebni dio'!G94+'Posebni dio'!G106+'Posebni dio'!G113+'Posebni dio'!G150+'Posebni dio'!G160 -> 31451 | H66: ='Posebni dio'!H29+'Posebni dio'!H52+'Posebni dio'!H94+'Posebni dio'!H106+'Posebni dio'!H113+'Posebni dio'!H150+'Posebni dio'!H160 -> 16990 | I66: ='Posebni dio'!I29+'Posebni dio'!I52+'Posebni dio'!I94+'Posebni dio'!I106+'Posebni dio'!I113+'Posebni dio'!I150+'Posebni dio'!I160 -> 16990 | J66: ='Posebni dio'!J29+'Posebni dio'!J52+'Posebni dio'!J94+'Posebni dio'!J106+'Posebni dio'!J113+'Posebni dio'!J150+'Posebni dio'!J160 -> 16990
C67: 329 | E67: Ostali nespomenuti rashodi poslovanja | F67: =SUM(F68:F72) -> 7017 | G67: =SUM(G68:G72) -> 6849 | H67: =SUM(H68:H72) -> 11530 | I67: =SUM(I68:I72) -> 11530 | J67: =SUM(J68:J72) -> 11530
D68: 3292 | E68: Premije osiguranja | F68: ='Posebni dio'!F30+'Posebni dio'!F53 -> 2636.53 | G68: ='Posebni dio'!G30+'Posebni dio'!G53 -> 3000 | H68: ='Posebni dio'!H30+'Posebni dio'!H53 -> 5000 | I68: ='Posebni dio'!I30+'Posebni dio'!I53 -> 5000 | J68: ='Posebni dio'!J30+'Posebni dio'!J53 -> 5000
D69: 3293 | E69: Reprezentacija | F69: =+'Posebni dio'!F54+'Posebni dio'!F95 -> 957.71 | G69: =+'Posebni dio'!G54+'Posebni dio'!G95 -> 0 | H69: =+'Posebni dio'!H54+'Posebni dio'!H95 -> 0 | I69: =+'Posebni dio'!I54+'Posebni dio'!I95 -> 0 | J69: =+'Posebni dio'!J54+'Posebni dio'!J95 -> 0
D70: 3294 | E70: Članarine | F70: ='Posebni dio'!F31+'Posebni dio'!F55 -> 345 | G70: ='Posebni dio'!G31+'Posebni dio'!G55 -> 364 | H70: ='Posebni dio'!H31+'Posebni dio'!H55 -> 345 | I70: ='Posebni dio'!I31+'Posebni dio'!I55 -> 345 | J70: ='Posebni dio'!J31+'Posebni dio'!J55 -> 345
D71: 3295 | E71: Pristojbe i naknade | F71: ='Posebni dio'!F32+'Posebni dio'!F56+'Posebni dio'!F73+'Posebni dio'!F82 -> 2160.04 | G71: ='Posebni dio'!G32+'Posebni dio'!G56+'Posebni dio'!G73+'Posebni dio'!G82 -> 2585 | H71: ='Posebni dio'!H32+'Posebni dio'!H56+'Posebni dio'!H73+'Posebni dio'!H82 -> 5085 | I71: ='Posebni dio'!I32+'Posebni dio'!I56+'Posebni dio'!I73+'Posebni dio'!I82 -> 5085 | J71: ='Posebni dio'!J32+'Posebni dio'!J56+'Posebni dio'!J73+'Posebni dio'!J82 -> 5085
D72: 3299 | E72: Ostali nespomenuti rashodi poslovanja | F72: ='Posebni dio'!F33+'Posebni dio'!F57+'Posebni dio'!F96+'Posebni dio'!F107+'Posebni dio'!F114 -> 917.72 | G72: ='Posebni dio'!G33+'Posebni dio'!G57+'Posebni dio'!G96+'Posebni dio'!G107+'Posebni dio'!G114 -> 900 | H72: ='Posebni dio'!H33+'Posebni dio'!H57+'Posebni dio'!H96+'Posebni dio'!H107+'Posebni dio'!H114 -> 1100 | I72: ='Posebni dio'!I33+'Posebni dio'!I57+'Posebni dio'!I96+'Posebni dio'!I107+'Posebni dio'!I114 -> 1100 | J72: ='Posebni dio'!J33+'Posebni dio'!J57+'Posebni dio'!J96+'Posebni dio'!J107+'Posebni dio'!J114 -> 1100
B73: 34 | E73: Financijski rashodi | F73: =F74 -> 1020 | G73: =G74 -> 1000 | H73: =H74 -> 0 | I73: =I74 -> 0 | J73: =J74 -> 0
C74: 343 | E74: Ostali financijski rashodi | F74: =SUM(F75:F75) -> 1020 | G74: =SUM(G75:G75) -> 1000 | H74: =SUM(H75:H75) -> 0 | I74: =SUM(I75:I75) -> 0 | J74: =SUM(J75:J75) -> 0
D75: 3431 | E75: Bankarske usluge i usluge platnog prometa | F75: ='Posebni dio'!F59 -> 1020 | G75: ='Posebni dio'!G59 -> 1000 | H75: ='Posebni dio'!H59 -> 0 | I75: ='Posebni dio'!I59 -> 0 | J75: ='Posebni dio'!J59 -> 0
B76: 37 | E76: Naknade građanima i kućanstvima na temelju osiguranja i druge naknade | F76: =F77 -> 60659.39 | G76: =G77 -> 2000 | H76: =H77 -> 4100 | I76: =I77 -> 4100 | J76: =J77 -> 4100
C77: 372 | E77: Ostale naknade građanima i kućanstvima iz proračuna | F77: =SUM(F78:F78) -> 60659.39 | G77: =SUM(G78:G78) -> 2000 | H77: =SUM(H78:H78) -> 4100 | I77: =SUM(I78:I78) -> 4100 | J77: =SUM(J78:J78) -> 4100
D78: 3722 | E78: Naknade građanima i kućanstvima u naravi | F78: ='Posebni dio'!F98+'Posebni dio'!F244+'Posebni dio'!F124 -> 60659.39 | G78: ='Posebni dio'!G98+'Posebni dio'!G244+'Posebni dio'!G124 -> 2000 | H78: ='Posebni dio'!H98+'Posebni dio'!H244+'Posebni dio'!H124 -> 4100 | I78: ='Posebni dio'!I98+'Posebni dio'!I244+'Posebni dio'!I124 -> 4100 | J78: ='Posebni dio'!J98+'Posebni dio'!J244+'Posebni dio'!J124 -> 4100
B79: 38 | E79: Ostali rashodi | F79: =F80 -> 1746 | G79: =G80 -> 1800 | H79: =H80 -> 1800 | I79: =I80 -> 1800 | J79: =J80 -> 1800
C80: 381 | E80: Tekuće donacije | F80: =F81 -> 1746 | G80: =G81 -> 1800 | H80: =H81 -> 1800 | I80: =I81 -> 1800 | J80: =J81 -> 1800
D81: 3812 | E81: Tekuće donacije u naravi | F81: ='Posebni dio'!F127+'Posebni dio'!F152 -> 1746 | G81: ='Posebni dio'!G127+'Posebni dio'!G152 -> 1800 | H81: ='Posebni dio'!H127+'Posebni dio'!H152 -> 1800 | I81: ='Posebni dio'!I127+'Posebni dio'!I152 -> 1800 | J81: ='Posebni dio'!J127+'Posebni dio'!J152 -> 1800
A82: 4 | E82: Rashodi za nabavu nefinancijske imovine | F82: =F83 -> 90698.4 | G82: =G83 -> 81400 | H82: =H83 -> 93350 | I82: =I83 -> 93350 | J82: =J83 -> 93350
B83: 42 | E83: Rashodi za nabavu proizvedene dugotrajne imovine | F83: =F84+F91 -> 90698.4 | G83: =G84+G91 -> 81400 | H83: =H84+H91 -> 93350 | I83: =I84+I91 -> 93350 | J83: =J84+J91 -> 93350
C84: 422 | E84: Postrojenja i oprema | F84: =SUM(F85:F90) -> 44419.38 | G84: =SUM(G85:G90) -> 34600 | H84: =SUM(H85:H90) -> 37650 | I84: =SUM(I85:I90) -> 37650 | J84: =SUM(J85:J90) -> 37650
D85: 4221 | E85: Uredska oprema i namještaj | F85: ='Posebni dio'!F129+'Posebni dio'!F154+'Posebni dio'!F162+'Posebni dio'!F197+'Posebni dio'!F259+'Posebni dio'!F265+'Posebni dio'!F279+'Posebni dio'!F284+'Posebni dio'!F289 -> 30926.03 | G85: ='Posebni dio'!G129+'Posebni dio'!G154+'Posebni dio'!G162+'Posebni dio'!G197+'Posebni dio'!G259+'Posebni dio'!G265+'Posebni dio'!G279+'Posebni dio'!G284+'Posebni dio'!G289 -> 25700 | H85: ='Posebni dio'!H129+'Posebni dio'!H154+'Posebni dio'!H162+'Posebni dio'!H197+'Posebni dio'!H259+'Posebni dio'!H265+'Posebni dio'!H279+'Posebni dio'!H284+'Posebni dio'!H289+'Posebni dio'!H272 -> 27650 | I85: ='Posebni dio'!I129+'Posebni dio'!I154+'Posebni dio'!I162+'Posebni dio'!I197+'Posebni dio'!I259+'Posebni dio'!I265+'Posebni dio'!I279+'Posebni dio'!I284+'Posebni dio'!I289+'Posebni dio'!I272 -> 27650 | J85: ='Posebni dio'!J129+'Posebni dio'!J154+'Posebni dio'!J162+'Posebni dio'!J197+'Posebni dio'!J259+'Posebni dio'!J265+'Posebni dio'!J279+'Posebni dio'!J284+'Posebni dio'!J289+'Posebni dio'!J272 -> 27650
D86: 4222 | E86: Komunikacijska oprema | F86: ='Posebni dio'!F163+'Posebni dio'!F275+'Posebni dio'!F280 -> 1859.67 | G86: ='Posebni dio'!G163+'Posebni dio'!G275+'Posebni dio'!G280 -> 1000 | H86: ='Posebni dio'!H163+'Posebni dio'!H275+'Posebni dio'!H280 -> 1000 | I86: ='Posebni dio'!I163+'Posebni dio'!I275+'Posebni dio'!I280 -> 1000 | J86: ='Posebni dio'!J163+'Posebni dio'!J275+'Posebni dio'!J280 -> 1000
D87: 4223 | E87: Oprema za održavanje i zaštitu | F87: ='Posebni dio'!F260+'Posebni dio'!F266+'Posebni dio'!F276+'Posebni dio'!F281 -> 2720.63 | G87: ='Posebni dio'!G260+'Posebni dio'!G266+'Posebni dio'!G276+'Posebni dio'!G281 -> 6400 | H87: ='Posebni dio'!H260+'Posebni dio'!H266+'Posebni dio'!H276+'Posebni dio'!H281 -> 6000 | I87: ='Posebni dio'!I260+'Posebni dio'!I266+'Posebni dio'!I276+'Posebni dio'!I281 -> 6000 | J87: ='Posebni dio'!J260+'Posebni dio'!J266+'Posebni dio'!J276+'Posebni dio'!J281 -> 6000
D88: 4224 | E88: Medicinska i laboratorijska oprema | F88: ='Posebni dio'!F130+'Posebni dio'!F285+'Posebni dio'!F290 -> 2904.75 | G88: ='Posebni dio'!G130+'Posebni dio'!G285+'Posebni dio'!G290 -> 0 | H88: ='Posebni dio'!H130+'Posebni dio'!H285+'Posebni dio'!H290 -> 500 | I88: ='Posebni dio'!I130+'Posebni dio'!I285+'Posebni dio'!I290 -> 500 | J88: ='Posebni dio'!J130+'Posebni dio'!J285+'Posebni dio'!J290 -> 500
D89: 4226 | E89: Sportska i glazbena oprema | F89: ='Posebni dio'!F286+'Posebni dio'!F291 -> 5189.31 | G89: ='Posebni dio'!G286+'Posebni dio'!G291 -> 1500 | H89: ='Posebni dio'!H286+'Posebni dio'!H291 -> 2500 | I89: ='Posebni dio'!I286+'Posebni dio'!I291 -> 2500 | J89: ='Posebni dio'!J286+'Posebni dio'!J291 -> 2500
D90: 4227 | E90: Uređaji, strojevi i oprema za ostale namjene | F90: ='Posebni dio'!F164+'Posebni dio'!F261 -> 818.99 | G90: ='Posebni dio'!G164+'Posebni dio'!G261 -> 0 | H90: ='Posebni dio'!H164+'Posebni dio'!H261 -> 0 | I90: ='Posebni dio'!I164+'Posebni dio'!I261 -> 0 | J90: ='Posebni dio'!J164+'Posebni dio'!J261 -> 0
C91: 424 | E91: Knjige, umjetnička djela i ostale izložbene vrijednosti | F91: =F92 -> 46279.02 | G91: =G92 -> 46800 | H91: =H92 -> 55700 | I91: =I92 -> 55700 | J91: =J92 -> 55700
D92: 4241 | E92: Knjige u knjižnicama | F92: ='Posebni dio'!F131+'Posebni dio'!F155+'Posebni dio'!F234+'Posebni dio'!F237+'Posebni dio'!F262+'Posebni dio'!F267 -> 46279.02 | G92: ='Posebni dio'!G131+'Posebni dio'!G155+'Posebni dio'!G234+'Posebni dio'!G237+'Posebni dio'!G262+'Posebni dio'!G267 -> 46800 | H92: ='Posebni dio'!H131+'Posebni dio'!H155+'Posebni dio'!H234+'Posebni dio'!H237+'Posebni dio'!H262+'Posebni dio'!H267 -> 55700 | I92: ='Posebni dio'!I131+'Posebni dio'!I155+'Posebni dio'!I234+'Posebni dio'!I237+'Posebni dio'!I262+'Posebni dio'!I267 -> 55700 | J92: ='Posebni dio'!J131+'Posebni dio'!J155+'Posebni dio'!J234+'Posebni dio'!J237+'Posebni dio'!J262+'Posebni dio'!J267 -> 55700

Sheet Izvori financiranja
A2: I. OPĆI DIO
A4: 1.2. RAČUN PRIHODA I RASHODA
A6: 1.2.2. PRIHODI I RASHODI POSLOVANJA PREMA IZVORIMA FINANCIRANJA
A10: BROJČANA OZNAKA I NAZIV | B10: Izvršenje 2025. | C10: Plan 2026. | D10: Proračun za 2027. | E10: Projekcija proračuna za 2028. | F10: Projekcija proračuna za 2029.
A11: 1 | B11: 2 | C11: 3 | D11: 4 | E11: 5 | F11: 6
A12: UKUPNO RASHODI | B12: =B13+B15+B18+B21+B27+B30 -> 3388646.4 | C12: =C13+C15+C18+C21+C27+C30 -> 3688753 | D12: =D13+D15+D18+D21+D27+D30 -> 3622201 | E12: =E13+E15+E18+E21+E27+E30 -> 3622201 | F12: =F13+F15+F18+F21+F27+F30 -> 3622201
A13: 1 | B13: =B14 -> 481762.17 | C13: =C14 -> 663265 | D13: =D14 -> 707408 | E13: =E14 -> 707408 | F13: =F14 -> 707408
A14: 11 Opći prihodi i primici | B14: ='Posebni dio'!F13+'Posebni dio'!F85+'Posebni dio'!F166+'Posebni dio'!F199+'Posebni dio'!F203+'Posebni dio'!F211 -> 481762.17 | C14: ='Posebni dio'!G13+'Posebni dio'!G85+'Posebni dio'!G166+'Posebni dio'!G199+'Posebni dio'!G203+'Posebni dio'!G211 -> 663265 | D14: ='Posebni dio'!H13+'Posebni dio'!H85+'Posebni dio'!H166+'Posebni dio'!H199+'Posebni dio'!H203+'Posebni dio'!H211+'Posebni dio'!H270 -> 707408 | E14: ='Posebni dio'!I13+'Posebni dio'!I85+'Posebni dio'!I166+'Posebni dio'!I199+'Posebni dio'!I203+'Posebni dio'!I211+'Posebni dio'!I270 -> 707408 | F14: ='Posebni dio'!J13+'Posebni dio'!J85+'Posebni dio'!J166+'Posebni dio'!J199+'Posebni dio'!J203+'Posebni dio'!J211+'Posebni dio'!J270 -> 707408
A15: 3 | B15: =SUM(B16:B17) -> 4156.56 | C15: =SUM(C16:C17) -> 4100 | D15: =SUM(D16:D17) -> 9500 | E15: =SUM(E16:E17) -> 9500 | F15: =SUM(F16:F17) -> 9500
A16: 31 Vlastiti prihodi | B16: ='Posebni dio'!F99+'Posebni dio'!F273 -> 0 | C16: ='Posebni dio'!G99+'Posebni dio'!G273 -> 0 | D16: ='Posebni dio'!H99+'Posebni dio'!H273 -> 9500 | E16: ='Posebni dio'!I99+'Posebni dio'!I273 -> 9500 | F16: ='Posebni dio'!J99+'Posebni dio'!J273 -> 9500
A17: 35 Vlastiti prihodi proračunskih korisnika | B17: ='Posebni dio'!F108+'Posebni dio'!F277 -> 4156.56 | C17: ='Posebni dio'!G108+'Posebni dio'!G277 -> 4100 | D17: ='Posebni dio'!H108+'Posebni dio'!H277 -> 0 | E17: ='Posebni dio'!I108+'Posebni dio'!I277 -> 0 | F17: ='Posebni dio'!J108+'Posebni dio'!J277 -> 0
A18: 4 | B18: =SUM(B19:B20) -> 200000 | C18: =SUM(C19:C20) -> 214000 | D18: =SUM(D19:D20) -> 85000 | E18: =SUM(E19:E20) -> 85000 | F18: =SUM(F19:F20) -> 85000
A19: 41 Potpore za decentralizirane izdatke | B19: ='Posebni dio'!F34+'Posebni dio'!F257 -> 200000 | C19: ='Posebni dio'!G34+'Posebni dio'!G257 -> 214000 | D19: ='Posebni dio'!H34+'Posebni dio'!H257 -> 0 | E19: ='Posebni dio'!I34+'Posebni dio'!I257 -> 0 | F19: ='Posebni dio'!J34+'Posebni dio'!J257 -> 0
A20: 43 Ostali prihodi za posebne namjene | B20: ='Posebni dio'!F174 -> 0 | C20: ='Posebni dio'!G174 -> 0 | D20: ='Posebni dio'!H174 -> 85000 | E20: ='Posebni dio'!I174 -> 85000 | F20: ='Posebni dio'!J174 -> 85000
A21: 5 | B21: =SUM(B22:B26) -> 2414699.8 | C21: =SUM(C22:C26) -> 2513761 | D21: =SUM(D22:D26) -> 2815993 | E21: =SUM(E22:E26) -> 2815993 | F21: =SUM(F22:F26) -> 2815993
A22: 50 Pomoći iz državnog proračuna kroz opće prihode i primitke | B22: ='Posebni dio'!F60+'Posebni dio'!F65+'Posebni dio'!F115+'Posebni dio'!F232+'Posebni dio'!F249+'Posebni dio'!F263 -> 0 | C22: ='Posebni dio'!G60+'Posebni dio'!G65+'Posebni dio'!G115+'Posebni dio'!G232+'Posebni dio'!G249+'Posebni dio'!G263 -> 0 | D22: ='Posebni dio'!H60+'Posebni dio'!H65+'Posebni dio'!H115+'Posebni dio'!H232+'Posebni dio'!H249+'Posebni dio'!H263 -> 2739393 | E22: ='Posebni dio'!I60+'Posebni dio'!I65+'Posebni dio'!I115+'Posebni dio'!I232+'Posebni dio'!I249+'Posebni dio'!I263 -> 2739393 | F22: ='Posebni dio'!J60+'Posebni dio'!J65+'Posebni dio'!J115+'Posebni dio'!J232+'Posebni dio'!J249+'Posebni dio'!J263 -> 2739393
A23: 52 Namjenske tekuće pomoći | B23: ='Posebni dio'!F239 -> 0 | C23: ='Posebni dio'!G239 -> 275 | D23: ='Posebni dio'!H239 -> 0 | E23: ='Posebni dio'!I239 -> 0 | F23: ='Posebni dio'!J239 -> 0
A24: 54 EU fondovi-pomoći | B24: ='Posebni dio'!F219+'Posebni dio'!F242 -> 65783.08 | C24: ='Posebni dio'!G219+'Posebni dio'!G242 -> 0 | D24: ='Posebni dio'!H219+'Posebni dio'!H242 -> 0 | E24: ='Posebni dio'!I219+'Posebni dio'!I242 -> 0 | F24: ='Posebni dio'!J219+'Posebni dio'!J242 -> 0
A25: 56 Fondovi EU | B25: ='Posebni dio'!F225+'Posebni dio'!F245 -> 0 | C25: ='Posebni dio'!G225+'Posebni dio'!G245 -> 74461 | D25: ='Posebni dio'!H225+'Posebni dio'!H245 -> 76600 | E25: ='Posebni dio'!I225+'Posebni dio'!I245 -> 76600 | F25: ='Posebni dio'!J225+'Posebni dio'!J245 -> 76600
A26: 59 Pomoći iz državnog proračuna za plaće te ostale rashode za zaposlene | B26: ='Posebni dio'!F74 -> 2348916.7 | C26: ='Posebni dio'!G74 -> 2439025 | D26: ='Posebni dio'!H74 -> 0 | E26: ='Posebni dio'!I74 -> 0 | F26: ='Posebni dio'!J74 -> 0
A27: 6 | B27: =SUM(B28:B29) -> 278779.42 | C27: =SUM(C28:C29) -> 293627 | D27: =SUM(D28:D29) -> 4300 | E27: =SUM(E28:E29) -> 4300 | F27: =SUM(F28:F29) -> 4300
A28: 61 Donacije | B28: ='Posebni dio'!F132+'Posebni dio'!F282 -> 0 | C28: ='Posebni dio'!G132+'Posebni dio'!G282 -> 0 | D28: ='Posebni dio'!H132+'Posebni dio'!H282 -> 4300 | E28: ='Posebni dio'!I132+'Posebni dio'!I282 -> 4300 | F28: ='Posebni dio'!J132+'Posebni dio'!J282 -> 4300
A29: 65 Donacije i ostali namjenski prihodi proračunskih korisnika | B29: ='Posebni dio'!F136+'Posebni dio'!F186+'Posebni dio'!F235+'Posebni dio'!F252+'Posebni dio'!F287 -> 278779.42 | C29: ='Posebni dio'!G136+'Posebni dio'!G186+'Posebni dio'!G235+'Posebni dio'!G252+'Posebni dio'!G287 -> 293627 | D29: ='Posebni dio'!H136+'Posebni dio'!H186+'Posebni dio'!H235+'Posebni dio'!H252+'Posebni dio'!H287 -> 0 | E29: ='Posebni dio'!I136+'Posebni dio'!I186+'Posebni dio'!I235+'Posebni dio'!I252+'Posebni dio'!I287 -> 0 | F29: ='Posebni dio'!J136+'Posebni dio'!J186+'Posebni dio'!J235+'Posebni dio'!J252+'Posebni dio'!J287 -> 0
A30: 9 | B30: =B31 -> 9248.47 | C30: =C31 -> 0 | D30: =D31 -> 0 | E30: =E31 -> 0 | F30: =F31 -> 0
A31: 99 Višak/manjak prihoda proračunskih korisnika | B31: ='Posebni dio'!F156 -> 9248.47 | C31: ='Posebni dio'!G156 -> 0 | D31: ='Posebni dio'!H156 -> 0 | E31: ='Posebni dio'!I156 -> 0 | F31: ='Posebni dio'!J156 -> 0
A32: UKUPNO PRIHODI | B32: =B33+B35+B38+B41+B47 -> 3127880.3 | C32: =C33+C35+C38+C41+C47 -> 3688753 | D32: =D33+D35+D38+D41+D47 -> 3622201 | E32: =E33+E35+E38+E41+E47 -> 3622201 | F32: =F33+F35+F38+F41+F47 -> 3622201
A33: 1 | B33: =B34 -> 669483.76 | C33: =C34 -> 663265 | D33: =D34 -> 707408 | E33: =E34 -> 707408 | F33: =F34 -> 707408
A34: 11 Opći prihodi i primici | B34: 669483.76 | C34: 663265 | D34: 707408 | E34: 707408 | F34: 707408
A35: 3 | B35: =SUM(B36:B37) -> 4140.3 | C35: =SUM(C36:C37) -> 4100 | D35: =SUM(D36:D37) -> 9500 | E35: =SUM(E36:E37) -> 9500 | F35: =SUM(F36:F37) -> 9500
A36: 31 Vlastiti prihodi | B36: 0 | C36: 0 | D36: 9500 | E36: 9500 | F36: 9500
A37: 35 Vlastiti prihodi proračunskih korisnika | B37: 4140.3 | C37: 4100 | D37: 0 | E37: 0 | F37: 0
A38: 4 | B38: =SUM(B39:B40) -> 0 | C38: =SUM(C39:C40) -> 214000 | D38: =SUM(D39:D40) -> 85000 | E38: =SUM(E39:E40) -> 85000 | F38: =SUM(F39:F40) -> 85000
A39: 41 Potpore za decentralizirane izdatke | B39: 0 | C39: 214000 | D39: 0 | E39: 0 | F39: 0
A40: 43 Ostali prihodi za posebne namjene | B40: 0 | C40: 0 | D40: 85000 | E40: 85000 | F40: 85000
A41: 5 | B41: =SUM(B42:B46) -> 2167967.9 | C41: =SUM(C42:C46) -> 2513761 | D41: =SUM(D42:D46) -> 2815993 | E41: =SUM(E42:E46) -> 2815993 | F41: =SUM(F42:F46) -> 2815993
A42: 50 Pomoći iz državnog proračuna kroz opće prihode i primitke | B42: 0 | C42: 0 | D42: 2739393 | E42: 2739393 | F42: 2739393
A43: 52 Namjenske tekuće pomoći | B43: 0 | C43: 275 | D43: 0 | E43: 0 | F43: 0
A44: 54 EU fondovi-pomoći | B44: 0 | C44: 0 | D44: 0 | E44: 0 | F44: 0
A45: 56 Fondovi EU | B45: 0 | C45: 74461 | D45: 76600 | E45: 76600 | F45: 76600
A46: 59 Pomoći iz državnog proračuna za plaće te ostale rashode za zaposlene | B46: 2167967.9 | C46: 2439025 | D46: 0 | E46: 0 | F46: 0
A47: 6 | B47: =SUM(B48:B49) -> 286288.35 | C47: =SUM(C48:C49) -> 293627 | D47: =SUM(D48:D49) -> 4300 | E47: =SUM(E48:E49) -> 4300 | F47: =SUM(F48:F49) -> 4300
A48: 61 Donacije | B48: 0 | C48: 0 | D48: 4300 | E48: 4300 | F48: 4300
A49: 65 Donacije i ostali namjenski prihodi proračunskih korisnika | B49: 286288.35 | C49: 293627 | D49: 0 | E49: 0 | F49: 0
A50: UKUPNO RASHODI | B50: =B12 -> 3388646.4 | C50: =C12 -> 3688753 | D50: =D12 -> 3622201 | E50: =E12 -> 3622201 | F50: =F12 -> 3622201
A51: UKUPNO PRIHODI | B51: =B32 -> 3127880.3 | C51: =C32 -> 3688753 | D51: =D32 -> 3622201 | E51: =E32 -> 3622201 | F51: =F32 -> 3622201

Sheet Funkcijska klasifikacija
A2: I. OPĆI DIO
A4: 1.2. RAČUN PRIHODA I RASHODA
A6: 1.2.3. RASHODI PREMA FUNKCIJSKOJ KLASIFIKACIJI
A9: BROJČANA OZNAKA I NAZIV | B9: Izvršenje 2025. | C9: Plan 2026. | D9: Proračun za 2027. | E9: Projekcija proračuna za 2028. | F9: Projekcija proračuna za 2029.
A10: 1 | B10: 2 | C10: 3 | D10: 4 | E10: 5 | F10: 6
A11: UKUPNO RASHODI | B11: =B12 -> 3388646.4 | C11: =C12 -> 3688753 | D11: =D12 -> 3622201 | E11: =E12 -> 3622201 | F11: =F12 -> 3622201
A12: 09 Obrazovanje | B12: =B13+B14 -> 3388646.4 | C12: =C13+C14 -> 3688753 | D12: =D13+D14 -> 3622201 | E12: =E13+E14 -> 3622201 | F12: =F13+F14 -> 3622201
A13: 091 Predškolsko i osnovno obrazovanje | B13: 3195669.2 | C13: 3688753 | D13: 3407201 | E13: 3407201 | F13: 3407201
A14: 096 Dodatne usluge u obrazovanju | B14: 192977.19 | C14: 0 | D14: 215000 | E14: 215000 | F14: 215000

Sheet Račun financiranja - ekonomska 
A2: I. OPĆI DIO
A4: 1.3. RAČUN FINANCIRANJA
A6: 1.3.1. RAČUN FINANCIRANJA PREMA EKONOMSKOJ KLASIFIKACIJI
A8: BROJČANA OZNAKA I NAZIV | F8: Izvršenje 2025. | G8: Plan 20256. | H8: Proračun za 2027. | I8: Projekcija proračuna za 2028. | J8: Projekcija proračuna za 2029.
A9: 1 | F9: 2 | G9: 3 | H9: 4 | I9: 5 | J9: 6
A10: 8 | E10: Primici od financijske imovine i zaduživanja | F10: 0 | G10: 0 | H10: 0 | I10: 0 | J10: 0
A11: 5 | E11: Izdaci za financijsku imovinu i otplate zajmova | F11: 0 | G11: 0 | H11: 0 | I11: 0 | J11: 0

Sheet Račun financiranja - izvori 
A2: I. OPĆI DIO
A4: 1.3. RAČUN FINANCIRANJA
A6: 1.3.2. RAČUN FINANCIRANJA PREMA IZVORIMA FINANCIRANJA
A8: BROJČANA OZNAKA I NAZIV | B8: Izvršenje 2025. | C8: Plan 20256. | D8: Proračun za 2027. | E8: Projekcija proračuna za 2028. | F8: Projekcija proračuna za 2029.
A9: 1 | B9: 2 | C9: 3 | D9: 4 | E9: 5 | F9: 6
A10: UKUPNO PRIMICI | B10: 0 | C10: 0 | D10: 0 | E10: 0 | F10: 0
A11: UKUPNO IZDACI | B11: 0 | C11: 0 | D11: 0 | E11: 0 | F11: 0

Sheet Posebni dio
A1: II. POSEBNI DIO
A3: 2.1. PROGRAMSKA KLASIFIKACIJA
A5: Brojčana oznaka i naziv | F5: Izvršenje 2025. | G5: Plan 2026. | H5: Proračun za 2027. | I5: Projekcija proračuna za 2028. | J5: Projekcija proračuna za 2029.
A7: 1 | C7: 2 | G7: 3 | H7: 4 | I7: 5 | J7: 6
A8: 9021 | C8: OŠ Mokošica, Dubrovnik
A9: Ukupno: | F9: =F11+F83+F255+F268 -> 3388646.4 | G9: =G11+G83+G255+G268 -> 3688753 | H9: =H11+H83+H255+H268 -> 3622201 | I9: =I11+I83+I255+I268 -> 3622201 | J9: =J11+J83+J255+J268 -> 3622201
A10: Glava 8-31 | C10: Osnovno školstvo
A11: 18054 DECENTRALIZIRANE FUNKCIJE - MINIMALNI FINANCIJSKI STANDARD | F11: =F12+F64 -> 2521916.7 | G11: =G12+G64 -> 2623025 | H11: =H12+H64 -> 2597000 | I11: =I12+I64 -> 2597000 | J11: =J12+J64 -> 2597000
A12: Aktivnost A18054001 | C12: MATERIJALNI I FINANCIJSKI RASHODI | F12: =F13+F34+F60 -> 173000 | G12: =G13+G34+G60 -> 184000 | H12: =H13+H34+H60 -> 185000 | I12: =I13+I34+I60 -> 185000 | J12: =J13+J34+J60 -> 185000
A13: Izvor 11 | C13: Opći prihodi i primici | F13: =F14 -> 0 | G13: =G14 -> 0 | H13: =H14 -> 118643 | I13: =I14 -> 118643 | J13: =J14 -> 118643
A14: 32 | C14: Materijalni rashodi | F14: =SUM(F15:F33) -> 0 | G14: =SUM(G15:G33) -> 0 | H14: =SUM(H15:H33) -> 118643 | I14: =SUM(I15:I33) -> 118643 | J14: =SUM(J15:J33) -> 118643
A15: 3211 | C15: Službena putovanja | F15: 0 | G15: 0 | H15: 11600 | I15: 11600 | J15: 11600
A16: 3213 | C16: Stručno usavršavanje zaposlenika | F16: 0 | G16: 0 | H16: 1200 | I16: 1200 | J16: 1200
A17: 3221 | C17: Uredski materijal i ostali materijalni rashodi | F17: 0 | G17: 0 | H17: 26500 | I17: 26500 | J17: 26500
A18: 3222 | C18: Materijal i sirovine | F18: 0 | G18: 0 | H18: 200 | I18: 200 | J18: 200
A19: 3224 | C19: Materijal i dijelovi za tekuće i investicijsko održavanje | F19: 0 | G19: 0 | H19: 7000 | I19: 7000 | J19: 7000
A20: 3225 | C20: Sitni inventar i autogume | F20: 0 | G20: 0 | H20: 6000 | I20: 6000 | J20: 6000
A21: 3227 | C21: Službena, radna i zaštitna odjeća i obuća | F21: 0 | G21: 0 | H21: 2000 | I21: 2000 | J21: 2000
A22: 3231 | C22: Usluge telefona, pošte i prijevoza | F22: 0 | G22: 0 | H22: 4800 | I22: 4800 | J22: 4800
A23: 3233 | C23: Usluge promidžbe i informiranja | F23: 0 | G23: 0 | H23: 133 | I23: 133 | J23: 133
A24: 3234 | C24: Komunalne usluge | F24: 0 | G24: 0 | H24: 26050 | I24: 26050 | J24: 26050
A25: 3235 | C25: Zakupnine i najamnine | F25: 0 | G25: 0 | H25: 1830 | I25: 1830 | J25: 1830
A26: 3236 | C26: Zdravstvene i veterinarske usluge | F26: 0 | G26: 0 | H26: 5000 | I26: 5000 | J26: 5000
A27: 3237 | C27: Intelektualne i osobne usluge | F27: 0 | G27: 0 | H27: 10900 | I27: 10900 | J27: 10900
A28: 3238 | C28: Računalne usluge | F28: 0 | G28: 0 | H28: 4500 | I28: 4500 | J28: 4500
A29: 3239 | C29: Ostale usluge | F29: 0 | G29: 0 | H29: 5000 | I29: 5000 | J29: 5000
A30: 3292 | C30: Premije osiguranja | F30: 0 | G30: 0 | H30: 5000 | I30: 5000 | J30: 5000
A31: 3294 | C31: Članarine i norme | F31: 0 | G31: 0 | H31: 345 | I31: 345 | J31: 345
A32: 3295 | C32: Pristojbe i naknade | F32: 0 | G32: 0 | H32: 85 | I32: 85 | J32: 85
A33: 3299 | C33: Ostali nespomenuti rashodi poslovanja | F33: 0 | G33: 0 | H33: 500 | I33: 500 | J33: 500
A34: Izvor 41 | C34: Potpore za decentralizirane izdatke | F34: =F35+F58 -> 173000 | G34: =G35+G58 -> 184000 | H34: =H35+H58 -> 0 | I34: =I35+I58 -> 0 | J34: =J35+J58 -> 0
A35: 32 | C35: Materijalni rashodi | F35: =SUM(F36:F57) -> 171980 | G35: =SUM(G36:G57) -> 183000 | H35: =SUM(H36:H57) -> 0 | I35: =SUM(I36:I57) -> 0 | J35: =SUM(J36:J57) -> 0
A36: 3211 | C36: Službena putovanja | F36: 10815.07 | G36: 11100 | H36: 0 | I36: 0 | J36: 0
A37: 3213 | C37: Stručno usavršavanje zaposlenika | F37: 905.25 | G37: 1200 | H37: 0 | I37: 0 | J37: 0
A38: 3221 | C38: Uredski materijal i ostali materijalni rashodi | F38: 22842.2 | G38: 22500 | H38: 0 | I38: 0 | J38: 0
A39: 3222 | C39: Materijal i sirovine | F39: 102.78 | G39: 200 | H39: 0 | I39: 0 | J39: 0
A40: 3223 | C40: Energija | F40: 18836.45 | G40: 24040 | H40: 0 | I40: 0 | J40: 0
A41: 3224 | C41: Materijal i dijelovi za tekuće i investicijsko održavanje | F41: 6129.18 | G41: 6000 | H41: 0 | I41: 0 | J41: 0
A42: 3225 | C42: Sitni inventar i autogume | F42: 2777.52 | G42: 4000 | H42: 0 | I42: 0 | J42: 0
A43: 3227 | C43: Službena, radna i zaštitna odjeća i obuća | F43: 1368.21 | G43: 1500 | H43: 0 | I43: 0 | J43: 0
A44: 3231 | C44: Usluge telefona, pošte i prijevoza | F44: 3857.94 | G44: 4800 | H44: 0 | I44: 0 | J44: 0
A45: 3232 | C45: Usluge tekućeg i investicijskog održavanja | F45: 47291.14 | G45: 40000 | H45: 0 | I45: 0 | J45: 0
A46: 3233 | C46: Usluge promidžbe i informiranja | F46: 127.44 | G46: 133 | H46: 0 | I46: 0 | J46: 0
A47: 3234 | C47: Komunalne usluge | F47: 23945.45 | G47: 23147 | H47: 0 | I47: 0 | J47: 0
A48: 3235 | C48: Zakupnine i najamnine | F48: 1825.25 | G48: 1830 | H48: 0 | I48: 0 | J48: 0
A49: 3236 | C49: Zdravstvene i veterinarske usluge | F49: 3169.6 | G49: 6400 | H49: 0 | I49: 0 | J49: 0
A50: 3237 | C50: Intelektualne i osobne usluge | F50: 1361.12 | G50: 750 | H50: 0 | I50: 0 | J50: 0
A51: 3238 | C51: Računalne usluge | F51: 4498.65 | G51: 4500 | H51: 0 | I51: 0 | J51: 0
A52: 3239 | C52: Ostale usluge | F52: 18700.79 | G52: 26951 | H52: 0 | I52: 0 | J52: 0
A53: 3292 | C53: Premije osiguranja | F53: 2636.53 | G53: 3000 | H53: 0 | I53: 0 | J53: 0
A54: 3293 | C54: Reprezentacija | F54: 326.71 | G54: 0 | H54: 0 | I54: 0 | J54: 0
A55: 3294 | C55: Članarine i norme | F55: 345 | G55: 364 | H55: 0 | I55: 0 | J55: 0
A56: 3295 | C56: Pristojbe i naknade | F56: 0 | G56: 85 | H56: 0 | I56: 0 | J56: 0
A57: 3299 | C57: Ostali nespomenuti rashodi poslovanja | F57: 117.72 | G57: 500 | H57: 0 | I57: 0 | J57: 0
A58: 34 | C58: Financijski rashodi | F58: =SUM(F59:F59) -> 1020 | G58: =SUM(G59:G59) -> 1000 | H58: =SUM(H59:H59) -> 0 | I58: =SUM(I59:I59) -> 0 | J58: =SUM(J59:J59) -> 0
A59: 3431 | C59: Bankarske usluge i usluge platnog prometa | F59: 1020 | G59: 1000 | H59: 0 | I59: 0 | J59: 0
A60: Izvor 50 | C60: Pomoći iz državnog proračuna | F60: =F61 -> 0 | G60: =G61 -> 0 | H60: =H61 -> 66357 | I60: =I61 -> 66357 | J60: =J61 -> 66357
A61: 32 | C61: Materijalni rashodi | F61: =SUM(F62:F63) -> 0 | G61: =SUM(G62:G63) -> 0 | H61: =SUM(H62:H63) -> 66357 | I61: =SUM(I62:I63) -> 66357 | J61: =SUM(J62:J63) -> 66357
A62: 3223 | C62: Energija | F62: 0 | G62: 0 | H62: 27040 | I62: 27040 | J62: 27040
A63: 3232 | C63: Usluge tekućeg i investicijskog održavanja | F63: 0 | G63: 0 | H63: 39317 | I63: 39317 | J63: 39317
A64: Aktivnost A18054004 | C64: REDOVNA DJELATNOST OSNOVNOG OBRAZOVANJA | F64: =F65+F74 -> 2348916.7 | G64: =G65+G74 -> 2439025 | H64: =H65+H74 -> 2412000 | I64: =I65+I74 -> 2412000 | J64: =J65+J74 -> 2412000
A65: Izvor 50 | C65: Pomoći iz državnog proračuna | F65: =F66+F71 -> 0 | G65: =G66+G71 -> 0 | H65: =H66+H71 -> 2412000 | I65: =I66+I71 -> 2412000 | J65: =J66+J71 -> 2412000
A66: 31 | C66: Rashodi za zaposlene | F66: =SUM(F67:F70) -> 0 | G66: =SUM(G67:G70) -> 0 | H66: =SUM(H67:H70) -> 2368500 | I66: =SUM(I67:I70) -> 2368500 | J66: =SUM(J67:J70) -> 2368500
A67: 3111 | C67: Plaće za redovan rad | F67: 0 | G67: 0 | H67: 1928000 | I67: 1928000 | J67: 1928000
A68: 3113 | C68: Plaće za prekovremeni rad | F68: 0 | G68: 0 | H68: 35000 | I68: 35000 | J68: 35000
A69: 3121 | C69: Ostali rashodi za zaposlene | F69: 0 | G69: 0 | H69: 81500 | I69: 81500 | J69: 81500
A70: 3132 | C70: Doprinosi za obvezno zdravstveno osiguranje | F70: 0 | G70: 0 | H70: 324000 | I70: 324000 | J70: 324000
A71: 32 | C71: Materijalni rashodi | F71: =SUM(F72:F73) -> 0 | G71: =SUM(G72:G73) -> 0 | H71: =SUM(H72:H73) -> 43500 | I71: =SUM(I72:I73) -> 43500 | J71: =SUM(J72:J73) -> 43500
A72: 3212 | C72: Naknade za prijevoz, za rad na terenu i odvojeni život | F72: 0 | G72: 0 | H72: 38500 | I72: 38500 | J72: 38500
A73: 3295 | C73: Pristojbe i naknade | F73: 0 | G73: 0 | H73: 5000 | I73: 5000 | J73: 5000
A74: Izvor 59 | C74: Pomoći iz državnog proračuna za plaće te ostale rashode za zaposlene | F74: =F75+F80 -> 2348916.7 | G74: =G75+G80 -> 2439025 | H74: =H75+H80 -> 0 | I74: =I75+I80 -> 0 | J74: =J75+J80 -> 0
A75: 31 | C75: Rashodi za zaposlene | F75: =SUM(F76:F79) -> 2309774 | G75: =SUM(G76:G79) -> 2396525 | H75: =SUM(H76:H79) -> 0 | I75: =SUM(I76:I79) -> 0 | J75: =SUM(J76:J79) -> 0
A76: 3111 | C76: Plaće za redovan rad | F76: 1914567.8 | G76: 1965000 | H76: 0 | I76: 0 | J76: 0
A77: 3113 | C77: Plaće za prekovremeni rad | F77: 0 | G77: 20000 | H77: 0 | I77: 0 | J77: 0
A78: 3121 | C78: Ostali rashodi za zaposlene | F78: 80779.73 | G78: 84000 | H78: 0 | I78: 0 | J78: 0
A79: 3132 | C79: Doprinosi za obvezno zdravstveno osiguranje | F79: 314426.42 | G79: 327525 | H79: 0 | I79: 0 | J79: 0
A80: 32 | C80: Materijalni rashodi | F80: =SUM(F81:F82) -> 39142.72 | G80: =SUM(G81:G82) -> 42500 | H80: =SUM(H81:H82) -> 0 | I80: =SUM(I81:I82) -> 0 | J80: =SUM(J81:J82) -> 0
A81: 3212 | C81: Naknade za prijevoz, za rad na terenu i odvojeni život | F81: 36982.68 | G81: 40000 | H81: 0 | I81: 0 | J81: 0
A82: 3295 | C82: Pristojbe i naknade | F82: 2160.04 | G82: 2500 | H82: 0 | I82: 0 | J82: 0
A83: 18055 DECENTRALIZIRANE FUNKCIJE - IZNAD MINIMALNOG FINANCIJSKOG STANDARDA | F83: =F84+F165+F198+F202+F210+F231+F238+F248 -> 828916.68 | G83: =G84+G165+G198+G202+G210+G231+G238+G248 -> 1030828 | H83: =H84+H165+H198+H202+H210+H231+H238+H248 -> 986351 | I83: =I84+I165+I198+I202+I210+I231+I238+I248 -> 986351 | J83: =J84+J165+J198+J202+J210+J231+J238+J248 -> 986351
A84: Aktivnost A18055002 | C84: OSTALI PROJEKTI U OSNOVNOM ŠKOLSTVU | F84: =F85+F99+F108+F115+F132+F136+F156 -> 111387.03 | G84: =G85+G99+G108+G115+G132+G136+G156 -> 37085 | H84: =H85+H99+H108+H115+H132+H136+H156 -> 59576 | I84: =I85+I99+I108+I115+I132+I136+I156 -> 59576 | J84: =J85+J99+J108+J115+J132+J136+J156 -> 59576
A85: Izvor 11 | C85: Opći prihodi i primici | F85: =F86+F89+F97 -> 87378.69 | G85: =G86+G89+G97 -> 19500 | H85: =H86+H89+H97 -> 39240 | I85: =I86+I89+I97 -> 39240 | J85: =J86+J89+J97 -> 39240
A86: 31 | C86: Rashodi za zaposlene | F86: =SUM(F87:F88) -> 0 | G86: =SUM(G87:G88) -> 0 | H86: =SUM(H87:H88) -> 1760 | I86: =SUM(I87:I88) -> 1760 | J86: =SUM(J87:J88) -> 1760
A87: 3111 | C87: Plaće za redovan rad | F87: 0 | G87: 0 | H87: 1510 | I87: 1510 | J87: 1510
A88: 3132 | C88: Doprinosi za obvezno zdravstveno osiguranje | F88: 0 | G88: 0 | H88: 250 | I88: 250 | J88: 250
A89: 32 | C89: Materijalni rashodi | F89: =SUM(F90:F96) -> 32514.38 | G89: =SUM(G90:G96) -> 17500 | H89: =SUM(H90:H96) -> 34880 | I89: =SUM(I90:I96) -> 34880 | J89: =SUM(J90:J96) -> 34880
A90: 3221 | C90: Uredski materijal i ostali materijalni rashodi | F90: 0 | G90: 0 | H90: 2030 | I90: 2030 | J90: 2030
A91: 3223 | C91: Energija | F91: 10883.38 | G91: 9000 | H91: 15000 | I91: 15000 | J91: 15000
A92: 3225 | C92: Sitni inventar i autogume | F92: 0 | G92: 0 | H92: 1760 | I92: 1760 | J92: 1760
A93: 3232 | C93: Usluge tekućeg i investicijskog održavanja | F93: 4500 | G93: 4500 | H93: 4500 | I93: 4500 | J93: 4500
A94: 3239 | C94: Ostale usluge | F94: 16000 | G94: 4000 | H94: 11390 | I94: 11390 | J94: 11390
A95: 3293 | C95: Reprezentacija | F95: 631 | G95: 0 | H95: 0 | I95: 0 | J95: 0
A96: 3299 | C96: Ostali nespomenuti rashodi poslovanja | F96: 500 | G96: 0 | H96: 200 | I96: 200 | J96: 200
A97: 37 | C97: Naknade građanima i kućanstvima na temelju osiguranja i druge naknade | F97: =SUM(F98:F98) -> 54864.31 | G97: =SUM(G98:G98) -> 2000 | H97: =SUM(H98:H98) -> 2600 | I97: =SUM(I98:I98) -> 2600 | J97: =SUM(J98:J98) -> 2600
A98: 3722 | C98: Naknade građanima i kućanstvima unaravi | F98: 54864.31 | G98: 2000 | H98: 2600 | I98: 2600 | J98: 2600
A99: Izvor 31 | C99: Vlastiti prihodi | F99: =F100 -> 0 | G99: =G100 -> 0 | H99: =H100 -> 7500 | I99: =I100 -> 7500 | J99: =J100 -> 7500
A100: 32 | C100: Materijalni rashodi | F100: =SUM(F101:F107) -> 0 | G100: =SUM(G101:G107) -> 0 | H100: =SUM(H101:H107) -> 7500 | I100: =SUM(I101:I107) -> 7500 | J100: =SUM(J101:J107) -> 7500
A101: 3221 | C101: Uredski materijal i ostali materijalni rashodi | F101: 0 | G101: 0 | H101: 100 | I101: 100 | J101: 100
A102: 3223 | C102: Energija | F102: 0 | G102: 0 | H102: 5000 | I102: 5000 | J102: 5000
A103: 3225 | C103: Sitni inventar i autogume | F103: 0 | G103: 0 | H103: 500 | I103: 500 | J103: 500
...
