Workbook

Sheet Naslovna strana
A5: OŠ Mokošica, Dubrovnik
A6: Bartola Kašića 20
A7: 20236 Mokošica
A8: OIB: 12780201511
A10: KLASA: | B10: 400-01/25-01/5
A11: URBROJ: | B11: 2117-1-126-03-26-4
A12: Dubrovnik, 30.9.2026. godine
A16: PRIJEDLOG
A18: II. REBALANSA FINANCIJSKOG PLANA OŠ MOKOŠICA, DUBROVNIK ZA 2026. GODINU

Sheet SAŽETAK
A2: I. OPĆI DIO
A4: SAŽETAK RAČUNA PRIHODA I RASHODA I RAČUNA FINANCIRANJA
A6: A) SAŽETAK RAČUNA PRIHODA I RASHODA
A7: BROJČANA OZNAKA I NAZIV | F7: TEKUĆI FINANCIJSKI PLAN 2026. | G7: POVEĆANJE/ SMANJENJE TEKUĆEG PLANA | H7: NOVI FINANCIJSKI PLAN 2026.
A8: 1 | F8: 2 | G8: 3 | H8: 4
A9: 6 PRIHODI POSLOVANJA | F9: 3688753 | G9: =' Račun prihoda i rashoda'!G11 -> 71248 | H9: =' Račun prihoda i rashoda'!H11 -> 3760001
A10: 7 PRIHODI OD PRODAJE NEFINANCIJSKE IMOVINE | F10: 0 | G10: 0 | H10: 0
A11: PRIHODI UKUPNO | F11: =SUM(F9:F10) -> 3688753 | G11: =SUM(G9:G10) -> 71248 | H11: =SUM(H9:H10) -> 3760001
A12: 3 RASHODI POSLOVANJA | F12: 3607353 | G12: =' Račun prihoda i rashoda'!G40 -> 37213 | H12: =' Račun prihoda i rashoda'!H40 -> 3644566
A13: 4 RASHODI ZA NABAVU NEFINANCIJSKE IMOVINE | F13: 81400 | G13: =' Račun prihoda i rashoda'!G86 -> 41544 | H13: =' Račun prihoda i rashoda'!H86 -> 122944
A14: RASHODI UKUPNO | F14: =SUM(F12:F13) -> 3688753 | G14: =SUM(G12:G13) -> 78757 | H14: =SUM(H12:H13) -> 3767510
A15: RAZLIKA - VIŠAK / MANJAK | F15: =F11-F14 -> 0 | G15: =G11-G14 -> -7509 | H15: =H11-H14 -> -7509
A17: B) SAŽETAK RAČUNA FINANCIRANJA
A18: BROJČANA OZNAKA I NAZIV | F18: TEKUĆI FINANCIJSKI PLAN 2026. | G18: POVEĆANJE/ SMANJENJE TEKUĆEG PLANA | H18: NOVI FINANCIJSKI PLAN 2026.
A19: 1 | F19: 3 | H19: 4
A20: 8 PRIMICI OD FINANCIJSKE IMOVINE I ZADUŽIVANJA | F20: 0 | G20: 0 | H20: 0
A21: 5 IZDACI ZA FINANCIJSKU IMOVINU I OTPLATE ZAJMOVA | F21: 0 | G21: 0 | H21: 0
A22: NETO FINANCIRANJE | F22: 0 | G22: 0 | H22: 0
A24: C) PRENESENI VIŠAK ILI PRENESENI MANJAK
A25: BROJČANA OZNAKA I NAZIV | F25: TEKUĆI FINANCIJSKI PLAN 2026. | G25: POVEĆANJE/ SMANJENJE TEKUĆEG PLANA | H25: NOVI FINANCIJSKI PLAN 2026.
A26: 1 | F26: 3 | H26: 4
A27: Preneseni višak iz prethodne godine -9221 | F27: 0 | G27: 7509 | H27: 7509
A28: Preneseni manjak iz prethodne godine -9222 | F28: 0 | G28: -259027 | H28: -259027
A29: UKUPNO PRENESENI NETO REZULTAT | F29: 0 | G29: =SUM(G27:G28) -> -251518 | H29: =SUM(H27:H28) -> -251518
A31: D) VIŠEGODIŠNJI PLAN URAVNOTEŽENJA
A32: BROJČANA OZNAKA I NAZIV | F32: TEKUĆI FINANCIJSKI PLAN 2026. | G32: POVEĆANJE/ SMANJENJE TEKUĆEG PLANA | H32: NOVI FINANCIJSKI PLAN 2026.
A33: 1 | F33: 3 | H33: 4
A34: Ukupno za uravnoteženje (A+B+C) | F34: 0 | G34: -251518 | H34: -251518
A35: Planirani manjak za pokriće u idućem razdoblju | F35: 0 | G35: 0 | H35: 0
A36: URAVNOTEŽENOST PRORAČUNA | F36: 0 | G36: =SUM(G34:G35) -> -251518 | H36: =SUM(H34:H35) -> -251518

Sheet  Račun prihoda i rashoda
A2: I. OPĆI DIO
A4: RAČUN PRIHODA I RASHODA
A6: PRIHODI I RASHODI PREMA EKONOMSKOJ KLASIFIKACIJI
A8: BROJČANA OZNAKA I NAZIV | F8: TEKUĆI FINANCIJSKI PLAN 2026. | G8: POVEĆANJE/ SMANJENJE TEKUĆEG PLANA | H8: NOVI FINANCIJSKI PLAN 2026.
A9: 1 | F9: 3 | H9: 4
E10: UKUPNO PRIHODI | F10: =F11 -> 3688753 | G10: =G11 -> 71248 | H10: =H11 -> 3760001
A11: 6 | E11: Prihodi poslovanja | F11: =F12+F20+F23+F26+F32 -> 3688753 | G11: =G12+G20+G23+G26+G32 -> 71248 | H11: =H12+H20+H23+H26+H32 -> 3760001
B12: 63 | E12: Pomoći iz inozemstva i od subjekata unutar općeg proračuna | F12: =F13+F15+F18 -> 2672410 | G12: =G13+G15+G18 -> -119767 | H12: =H13+H15+H18 -> 2552643
C13: 633 | E13: Pomoći proračunu iz drugih proračuna i izvanproračunskim korisnicima | F13: =F14 -> 0 | G13: =G14 -> 0 | H13: =H14 -> 0
D14: 6331 | E14: Tekuće pomoći proračunu iz drugih proračuna i izvanproračunskim korisnicima | F14: 0 | G14: 0 | H14: =F14+G14 -> 0
C15: 636 | E15: Pomoći proračunskim korisnicima iz proračuna koji im nije nadležan | F15: =SUM(F16:F17) -> 2672410 | G15: =SUM(G16:G17) -> -119767 | H15: =SUM(H16:H17) -> 2552643
D16: 6361 | E16: Tekuće pomoći proračunskim korisnicima iz proračuna koji im nije nadležan | F16: 2625910 | G16: -126667 | H16: =F16+G16 -> 2499243
D17: 6362 | E17: Kapitalne pomoći proračunskim korisnicima iz proračuna koji im nije nadležan | F17: 46500 | G17: 6900 | H17: =F17+G17 -> 53400
C18: 638 | E18: Pomoći temeljem prijenosa EU sredstava | F18: =F19 -> 0 | G18: =G19 -> 0 | H18: =H19 -> 0
D19: 6381 | E19: Tekuće pomoći temeljem prijenosa EU sredstava | F19: 0 | G19: 0 | H19: =F19+G19 -> 0
B20: 64 | E20: Prihodi od imovine | F20: =F21 -> 0 | G20: =G21 -> 1 | H20: =H21 -> 1
C21: 641 | E21: Prihodi od financijske imovine | F21: =F22 -> 0 | G21: =G22 -> 1 | H21: =H22 -> 1
D22: 6413 | E22: Kamate na depozite po viđenju | F22: 0 | G22: 1 | H22: =F22+G22 -> 1
B23: 65 | E23: Prihodi od upravnih i administrativnih pristojbi, pristojbi po posebnim propisima i naknadama | F23: =F24 -> 57742 | G23: =G24 -> 32643 | H23: =H24 -> 90385
C24: 652 | E24: Prihodi po posebnim propisima | F24: =F25 -> 57742 | G24: =G25 -> 32643 | H24: =H25 -> 90385
D25: 6526 | E25: Ostali nespomenuti prihodi | F25: 57742 | G25: 32643 | H25: =F25+G25 -> 90385
B26: 66 | E26: Prihodi od prodaje proizvoda i robe te pruženih usluga, prihodi od donacija te povrati po protestiranim jamstvima | F26: =F27+F29 -> 6600 | G26: =G27+G29 -> 4764 | H26: =H27+H29 -> 11364
C27: 661 | E27: Prihodi od prodaje proizvoda i robe te pruženih usluga | F27: =F28 -> 4100 | G27: =G28 -> 735 | H27: =H28 -> 4835
D28: 6615 | E28: Prihodi od pruženih usluga | F28: 4100 | G28: 735 | H28: =F28+G28 -> 4835
C29: 663 | E29: Donacije od pravnih i fizičkih osoba izvan općeg proračuna i povrat donacija po protestiranim jamstvima | F29: =SUM(F30:F31) -> 2500 | G29: =SUM(G30:G31) -> 4029 | H29: =SUM(H30:H31) -> 6529
D30: 6631 | E30: Tekuće donacije | F30: 0 | G30: 879 | H30: =F30+G30 -> 879
D31: 6632 | E31: Kapitalne donacije | F31: 2500 | G31: 3150 | H31: =F31+G31 -> 5650
B32: 67 | E32: Prihodi iz nadležnog proračuna i od HZZO-a temeljem ugovornih obveza | F32: =F33 -> 952001 | G32: =G33 -> 153607 | H32: =H33 -> 1105608
C33: 671 | E33: Prihodi iz nadlženog proračuna za financiranje redovne djelatnosti proračunskih korisnika | F33: =SUM(F34:F35) -> 952001 | G33: =SUM(G34:G35) -> 153607 | H33: =SUM(H34:H35) -> 1105608
D34: 6711 | E34: Prihodi iz nadležnog proračuna za financiranje rashoda poslovanja | F34: 922001 | G34: 127657 | H34: =F34+G34 -> 1049658
D35: 6712 | E35: Prihodi iz nadležnog proračuna za financiranje rashoda za nabavu nefinancijske imovine | F35: 30000 | G35: 25950 | H35: =F35+G35 -> 55950
A37: BROJČANA OZNAKA I NAZIV | F37: TEKUĆI FINANCIJSKI PLAN 2026. | G37: POVEĆANJE/ SMANJENJE TEKUĆEG PLANA | H37: NOVI FINANCIJSKI PLAN 2026.
A38: 1 | F38: 3 | H38: 4
E39: UKUPNO RASHODI | F39: =F40+F86 -> 3688753 | G39: =G40+G86 -> 78757 | H39: =H40+H86 -> 3767510
A40: 3 | E40: Rashodi poslovanja | F40: =F41+F49+F76+F79+F83 -> 3607353 | G40: =G41+G49+G76+G79+G83 -> 37213 | H40: =H41+H49+H76+H79+H83 -> 3644566
B41: 31 | E41: Rashodi za zaposlene | F41: =F42+F45+F47 -> 2915300 | G41: =G42+G45+G47 -> -103592 | H41: =H42+H45+H47 -> 2811708
C42: 311 | E42: Plaće (Bruto) | F42: =SUM(F43:F44) -> 2413951 | G42: =SUM(G43:G44) -> -95745 | H42: =SUM(H43:H44) -> 2318206
D43: 3111 | E43: Plaće za redovan rad | F43: 2388951 | G43: -115745 | H43: =F43+G43 -> 2273206
D44: 3313 | E44: Plaće za prekovremeni rad | F44: 25000 | G44: 20000 | H44: =F44+G44 -> 45000
C45: 312 | E45: Ostali rashodi za zaposlene | F45: =F46 -> 106100 | G45: =G46 -> 5484 | H45: =H46 -> 111584
D46: 3121 | E46: Ostali rashodi za zaposlene | F46: 106100 | G46: 5484 | H46: =F46+G46 -> 111584
C47: 313 | E47: Doprinosi na plaće | F47: =F48 -> 395249 | G47: =G48 -> -13331 | H47: =H48 -> 381918
D48: 3132 | E48: Doprinosi za obvezno zdravstveno osiguranje | F48: 395249 | G48: -13331 | H48: =F48+G48 -> 381918
B49: 32 | E49: Materijalni rashodi | F49: =F50+F54+F61+F71 -> 687253 | G49: =G50+G54+G61+G71 -> 77555 | H49: =H50+H54+H61+H71 -> 764808
C50: 321 | E50: Naknade troškova zaposlenima | F50: =SUM(F51:F53) -> 59710 | G50: =SUM(G51:G53) -> 10848 | H50: =SUM(H51:H53) -> 70558
D51: 3211 | E51: Službena putovanja | F51: 11810 | G51: 1131 | H51: =F51+G51 -> 12941
D52: 3212 | E52: Naknade za prijevoz za rad na terenu i odvojeni život | F52: 46600 | G52: 8097 | H52: =F52+G52 -> 54697
D53: 3213 | E53: Stručno usavršavanje zaposlenika | F53: 1300 | G53: 1620 | H53: =F53+G53 -> 2920
C54: 322 | E54: Rashod za materijal i energiju | F54: =SUM(F55:F60) -> 299555 | G54: =SUM(G55:G60) -> -205 | H54: =SUM(H55:H60) -> 299350
D55: 3221 | E55: Uredski materijal i ostali materijalni rashodi | F55: 26615 | G55: 4897 | H55: =F55+G55 -> 31512
D56: 3222 | E56: Materijal i sirovine | F56: ='POSEBNI DIO'!F18+'POSEBNI DIO'!F108+'POSEBNI DIO'!F124+'POSEBNI DIO'!F160+'POSEBNI DIO'!F163+'POSEBNI DIO'!F167+'POSEBNI DIO'!F52 -> 218000 | G56: ='POSEBNI DIO'!G18+'POSEBNI DIO'!G108+'POSEBNI DIO'!G124+'POSEBNI DIO'!G160+'POSEBNI DIO'!G163+'POSEBNI DIO'!G167+'POSEBNI DIO'!G52 -> -21342 | H56: ='POSEBNI DIO'!H18+'POSEBNI DIO'!H108+'POSEBNI DIO'!H124+'POSEBNI DIO'!H160+'POSEBNI DIO'!H163+'POSEBNI DIO'!H167+'POSEBNI DIO'!H52 -> 196658
D57: 3223 | E57: Energija | F57: 40040 | G57: 14034 | H57: =F57+G57 -> 54074
D58: 3224 | E58: Materijal i dijelovi za tekuće i investicijsko održavanje | F58: 6000 | G58: 403 | H58: =F58+G58 -> 6403
D59: 3225 | E59: Sitni inventar i auto gume | F59: 7200 | G59: 2937 | H59: =F59+G59 -> 10137
D60: 3227 | E60: Službena, radna i zaštitna odjeća i obuća | F60: 1700 | G60: ='POSEBNI DIO'!G22+'POSEBNI DIO'!G111 -> -1134 | H60: =F60+G60 -> 566
C61: 323 | E61: Rashodi za usluge | F61: =SUM(F62:F70) -> 321139 | G61: =SUM(G62:G70) -> 64917 | H61: =SUM(H62:H70) -> 386056
D62: 3231 | E62: Usluge telefona, pošte i prijevoza | F62: 4800 | G62: -700 | H62: =F62+G62 -> 4100
D63: 3232 | E63: Usluge tekućeg i investicijskog održavanja | F63: 244928 | G63: 31925 | H63: =F63+G63 -> 276853
D64: 3233 | E64: Usluge promidžbe i informiranja | F64: 133 | G64: 1323 | H64: =F64+G64 -> 1456
D65: 3234 | E65: Komunalne usluge | F65: 23647 | G65: ='POSEBNI DIO'!G26+'POSEBNI DIO'!G80+'POSEBNI DIO'!G114 -> 3164 | H65: =F65+G65 -> 26811
D66: 3235 | E66: Zakupnine i najamnine | F66: 1830 | G66: -4 | H66: =F66+G66 -> 1826
D67: 3236 | E67: Zdravstvene i veterinarske usluge | F67: 9100 | G67: 5544 | H67: =F67+G67 -> 14644
D68: 3237 | E68: Intelektualne i osobne usluge | F68: 750 | G68: 21440 | H68: =F68+G68 -> 22190
D69: 3238 | E69: Računalne usluge | F69: 4500 | G69: 175 | H69: =F69+G69 -> 4675
D70: 3239 | E70: Ostale usluge | F70: 31451 | G70: 2050 | H70: =F70+G70 -> 33501
C71: 329 | E71: Ostali nespomenuti rashodi poslovanja | F71: =SUM(F72:F75) -> 6849 | G71: =SUM(G72:G75) -> 1995 | H71: =SUM(H72:H75) -> 8844
D72: 3292 | E72: Premije osiguranja | F72: 3000 | G72: ='POSEBNI DIO'!G32 -> 0 | H72: =F72+G72 -> 3000
D73: 3294 | E73: Članarine | F73: 364 | G73: ='POSEBNI DIO'!G33 -> 0 | H73: =F73+G73 -> 364
D74: 3295 | E74: Pristojbe i naknade | F74: 2585 | G74: ='POSEBNI DIO'!G34+'POSEBNI DIO'!G47 -> 1070 | H74: =F74+G74 -> 3655
D75: 3299 | E75: Ostali nespomenuti rashodi poslovanja | F75: 900 | G75: 925 | H75: =F75+G75 -> 1825
B76: 34 | E76: Financijski rashodi | F76: =F77 -> 1000 | G76: =G77 -> 100 | H76: =H77 -> 1100
C77: 343 | E77: Ostali financijski rashodi | F77: =SUM(F78:F78) -> 1000 | G77: =SUM(G78:G78) -> 100 | H77: =SUM(H78:H78) -> 1100
D78: 3431 | E78: Bankarske usluge i usluge platnog prometa | F78: 1000 | G78: 100 | H78: =F78+G78 -> 1100
B79: 37 | E79: Naknade građanima i kućanstvima na temelju osiguranja i druge naknade | F79: =F80 -> 2000 | G79: =G80 -> 63150 | H79: =H80 -> 65150
C80: 372 | E80: Ostale naknade građanima i kućanstvima iz proračuna | F80: =SUM(F81:F82) -> 2000 | G80: =SUM(G81:G82) -> 63150 | H80: =SUM(H81:H82) -> 65150
D81: 3721 | E81: Naknade građanima i i kućanstvima u novcu | F81: 0 | G81: ='POSEBNI DIO'!G60+'POSEBNI DIO'!G82 -> 500 | H81: ='POSEBNI DIO'!H60+'POSEBNI DIO'!H82 -> 500
D82: 3722 | E82: Naknade građanima i kućanstvima u naravi | F82: 2000 | G82: ='POSEBNI DIO'!G61 -> 62650 | H82: =F82+G82 -> 64650
B83: 38 | E83: Ostali rashodi | F83: =F84 -> 1800 | G83: =G84 -> 0 | H83: =H84 -> 1800
C84: 381 | E84: Tekuće donacije | F84: =F85 -> 1800 | G84: =G85 -> 0 | H84: =H85 -> 1800
D85: 3812 | E85: Tekuće donacije u naravi | F85: 1800 | G85: ='POSEBNI DIO'!G84 -> 0 | H85: =F85+G85 -> 1800
A86: 4 | E86: Rashodi za nabavu nefinancijske imovine | F86: =F87 -> 81400 | G86: =G87 -> 41544 | H86: =H87 -> 122944
B87: 42 | E87: Rashodi za nabavu proizvedene dugotrajne imovine | F87: =F88+F94 -> 81400 | G87: =G88+G94 -> 41544 | H87: =H88+H94 -> 122944
C88: 422 | E88: Postrojenja i oprema | F88: =SUM(F89:F93) -> 34600 | G88: =SUM(G89:G93) -> 31969 | H88: =SUM(H89:H93) -> 66569
D89: 4221 | E89: Uredska oprema i namještaj | F89: 25700 | G89: 7699 | H89: =F89+G89 -> 33399
D90: 4222 | E90: Komunikacijska oprema | F90: 1000 | G90: -1000 | H90: =F90+G90 -> 0
D91: 4223 | E91: Oprema za održavanje i zaštitu | F91: 6400 | G91: ='POSEBNI DIO'!G186+'POSEBNI DIO'!G173 -> -1400 | H91: =F91+G91 -> 5000
D92: 4226 | E92: Sportska i glazbena oprema | F92: 1500 | G92: 22800 | H92: =F92+G92 -> 24300
D93: 4227 | E93: Uređaji, strojevi i oprema za ostale namjene | F93: 0 | G93: ='POSEBNI DIO'!G121 -> 3870 | H93: ='POSEBNI DIO'!H121 -> 3870
C94: 424 | E94: Knjige, umjetnička djela i ostale izložbene vrijednosti | F94: =F95 -> 46800 | G94: =G95 -> 9575 | H94: =H95 -> 56375
D95: 4241 | E95: Knjige u knjižnicama | F95: 46800 | G95: 9575 | H95: =F95+G95 -> 56375

Sheet Rashodi prema izvorima finan
A1: I. OPĆI DIO
A4: PRIHODI I RASHODI PREMA IZVORIMA FINANCIRANJA
A6: BROJČANA OZNAKA I NAZIV | B6: TEKUĆI FINANCIJSKI PLAN 2026. | C6: POVEĆANJE/ SMANJENJE TEKUĆEG PLANA | D6: NOVI FINANCIJSKI PLAN 2026.
A7: 1 | B7: 3 | D7: 4
A8: UKUPNO PRIHODI | B8: =SUM(B9+B11+B13+B15+B19) -> 3688753 | C8: =SUM(C9+C11+C13+C15+C19) -> 71248 | D8: =SUM(D9+D11+D13+D15+D19) -> 3760001
A9: 1 Opći prihodi i primici | B9: =B10 -> 663265 | C9: =C10 -> 152907 | D9: =D10 -> 816172
A10: 11 Opći prihodi i primici | B10: 663265 | C10: 152907 | D10: =B10+C10 -> 816172
A11: 3 Vlastiti prihodi | B11: =SUM(B12:B12) -> 4100 | C11: =SUM(C12:C12) -> 735 | D11: =SUM(D12:D12) -> 4835
A12: 35 Vlastiti prihodi proračunskih korisnika | B12: 4100 | C12: 735 | D12: =B12+C12 -> 4835
A13: 4 Prihodi za posebne namjene | B13: =B14 -> 214000 | C13: =C14 -> 0 | D13: =D14 -> 214000
A14: 41 Potpore za decentralizirane izdatke | B14: 214000 | C14: 0 | D14: =B14+C14 -> 214000
A15: 5 Pomoći | B15: =SUM(B16:B18) -> 2513761 | C15: =SUM(C16:C18) -> -85755 | D15: =SUM(D16:D18) -> 2428006
A16: 52 Namjenske tekuće pomoći | B16: 275 | C16: -275 | D16: =B16+C16 -> 0
A17: 56 Fondovi EU | B17: 74461 | C17: 975 | D17: =B17+C17 -> 75436
A18: 59 Pomoći iz državnog proračuna za plaće te ostale rashode za zaposlene | B18: 2439025 | C18: -86455 | D18: =B18+C18 -> 2352570
A19: 6 Donacije | B19: =B20 -> 293627 | C19: =C20 -> 3361 | D19: =D20 -> 296988
A20: 65 Donacije i ostali namjenski prihodi proračunskih korisnika | B20: 293627 | C20: 3361 | D20: =B20+C20 -> 296988
A21: UKUPNO RASHODI | B21: =SUM(B22+B24+B26+B28+B32+B34) -> 3688753 | C21: =SUM(C22+C24+C26+C28+C32+C34) -> 78757 | D21: =SUM(D22+D24+D26+D28+D32+D34) -> 3767510
A22: 1 Opći prihodi i primici | B22: =B23 -> 663265 | C22: =C23 -> 152907 | D22: =D23 -> 816172
A23: 11 Opći prihodi i primici | B23: 663265 | C23: 152907 | D23: =B23+C23 -> 816172
A24: 3 Vlastiti prihodi | B24: =SUM(B25:B25) -> 4100 | C24: =SUM(C25:C25) -> 735 | D24: =SUM(D25:D25) -> 4835
A25: 35 Vlastiti prihodi proračunskih korisnika | B25: 4100 | C25: 735 | D25: =B25+C25 -> 4835
A26: 4 Prihodi za posebne namjene | B26: =B27 -> 214000 | C26: =C27 -> 0 | D26: =D27 -> 214000
A27: 41 Potpore za decentralizirane izdatke | B27: 214000 | C27: 0 | D27: =B27+C27 -> 214000
A28: 5 Pomoći | B28: =SUM(B29:B31) -> 2513761 | C28: =SUM(C29:C31) -> -85755 | D28: =SUM(D29:D31) -> 2428006
A29: 52 Namjenske tekuće pomoći | B29: 275 | C29: -275 | D29: =B29+C29 -> 0
A30: 56 Fondovi EU | B30: 74461 | C30: 975 | D30: =B30+C30 -> 75436
A31: 59 Pomoći iz državnog proračuna za plaće te ostale rashode za zaposlene | B31: 2439025 | C31: -86455 | D31: =B31+C31 -> 2352570
A32: 6 Donacije | B32: =B33 -> 293627 | C32: =C33 -> 3361 | D32: =D33 -> 296988
A33: 65 Donacije i ostali namjenski prihodi proračunskih korisnika | B33: 293627 | C33: 3361 | D33: =B33+C33 -> 296988
A34: 9 Višak/manjak | B34: =B35 -> 0 | C34: =C35 -> 7509 | D34: =D35 -> 7509
A35: 99 višak/manjak prihoda proračunskih korisnika | B35: 0 | C35: 7509 | D35: =B35+C35 -> 7509
A36: UKUPNO PRIHODI | B36: =B8 -> 3688753 | C36: =C8 -> 71248 | D36: =D8 -> 3760001
A37: UKUPNO RASHODI | B37: =B21 -> 3688753 | C37: =C21 -> 78757 | D37: =D21 -> 3767510

Sheet Rashodi prema funkcijskoj k 
A1: I. OPĆI DIO
A4: RASHODI PREMA FUNKCIJSKOJ KLASIFIKACIJI
A6: BROJČANA OZNAKA I NAZIV | B6: TEKUĆI FINANCIJSKI PLAN 2026. | C6: POVEĆANJE/ SMANJENJE TEKUĆEG PLANA | D6: NOVI FINANCIJSKI PLAN 2026.
A7: 1 | B7: 2 | C7: 3 | D7: 4
A8: UKUPNO RASHODI | B8: =B9 -> 3688753 | C8: =C9 -> 78757 | D8: =D9 -> 3767510
A9: 09 Obrazovanje | B9: =B10+B11 -> 3688753 | C9: =C10+C11 -> 78757 | D9: =SUM(D10:D11) -> 3767510
A10: 091 Predškolsko i osnovno obrazovanje | B10: 3688753 | C10: -109243 | D10: =B10+C10 -> 3579510
A11: 096 Dodatne usluge u obrazovanju | B11: 0 | C11: 188000 | D11: =B11+C11 -> 188000

Sheet Račun financiranja
A2: I. OPĆI DIO
A4: RAČUN FINANCIRANJA
A5: IZVJEŠTAJ RAČUNA FINANCIRANJA PREMA EKONOMSKOJ KLASIFIKACIJI
A7: BROJČANA OZNAKA I NAZIV | F7: TEKUĆI FINANCIJSKI PLAN 2026. | G7: POVEĆANJE/ SMANJENJE TEKUĆEG PLANA | H7: NOVI FINANCIJSKI PLAN 2026.
A8: 1 | F8: 2 | G8: 3 | H8: 4
A9: 8 | E9: Primici od financijske imovine i zaduživanja | F9: 0 | G9: 0 | H9: 0
A10: 5 | E10: Izdaci za financijsku imovinu i otplate zajmova | F10: 0 | G10: 0 | H10: 0

Sheet Račun fin prema izvorima f
A1: I. OPĆI DIO
A4: RAČUN FINANCIRANJA PREMA IZVORIMA FINANCIRANJA
A6: BROJČANA OZNAKA I NAZIV | B6: TEKUĆI FINANCIJSKI PLAN 2026. | C6: POVEĆANJE/ SMANJENJE TEKUĆEG PLANA | D6: NOVI FINANCIJSKI PLAN 2026.
A7: 1 | B7: 2 | C7: 3 | D7: 4
A8: UKUPNO PRIMICI | B8: 0 | C8: 0 | D8: 0

Sheet POSEBNI DIO
A1: II. POSEBNI DIO
A2: PROGRAMSKA KLASIFIKACIJA
A5: Brojčana oznaka i naziv | F5: TEKUĆI FINANCIJSKI PLAN 2026. | G5: POVEĆANJE/ SMANJENJE TEKUĆEG PLANA | H5: NOVI FINANCIJSKI PLAN 2026.
A7: 1 | C7: 2 | F7: 3 | G7: 4 | H7: 5
A8: 9021 | C8: OŠ Mokošica, Dubrovnik
A9: Ukupno: | F9: =F11+F48+F168+F176 -> 3688753 | G9: =G11+G48+G168+G176 -> 78757 | H9: =H11+H48+H168+H176 -> 3767510
A10: Glava 8-31 | C10: Osnovno školstvo
A11: 18054 DECENTRALIZIRANE FUNKCIJE - MINIMALNI FINANCIJSKI STANDARD | F11: =F12+F38 -> 2623025 | G11: =G12+G38 -> -86455 | H11: =H12+H38 -> 2536570
A12: Aktivnost A18054001 | C12: MATERIJALNI I FINANCIJSKI RASHODI | F12: =F13 -> 184000 | G12: =G13 -> 0 | H12: =H13 -> 184000
A13: Izvor 41 | C13: Potpore za decentralizirane izdatke | F13: =F14+F36 -> 184000 | G13: =G14+G36 -> 0 | H13: =H14+H36 -> 184000
A14: 32 | C14: Materijalni rashodi | F14: =SUM(F15:F35) -> 183000 | G14: =SUM(G15:G35) -> 200 | H14: =SUM(H15:H35) -> 183200
A15: 3211 | C15: Službena putovanja | F15: 11100 | G15: 100 | H15: =F15+G15 -> 11200
A16: 3213 | C16: Stručno usavršavanje zaposlenika | F16: 1200 | G16: 870 | H16: =F16+G16 -> 2070
A17: 3221 | C17: Uredski materijal i ostali materijalni rashodi | F17: 22500 | G17: -1248 | H17: =F17+G17 -> 21252
A18: 3222 | C18: Materijal i sirovine | F18: 200 | G18: 0 | H18: =F18+G18 -> 200
A19: 3223 | C19: Energija | F19: 24040 | G19: 6534 | H19: =F19+G19 -> 30574
A20: 3224 | C20: Materijal i dijelovi za tekuće i investicijsko održavanje | F20: 6000 | G20: 403 | H20: =F20+G20 -> 6403
A21: 3225 | C21: Sitni inventar i autogume | F21: 4000 | G21: -1000 | H21: =F21+G21 -> 3000
A22: 3227 | C22: Službena, radna i zaštitna odjeća i obuća | F22: 1500 | G22: -1334 | H22: =F22+G22 -> 166
A23: 3231 | C23: Usluge telefona, pošte i prijevoza | F23: 4800 | G23: -700 | H23: =F23+G23 -> 4100
A24: 3232 | C24: Usluge tekućeg i investicijskog održavanja | F24: 40000 | G24: -15250 | H24: =F24+G24 -> 24750
A25: 3233 | C25: Usluge promidžbe i informiranja | F25: 133 | G25: 500 | H25: =F25+G25 -> 633
A26: 3234 | C26: Komunalne usluge | F26: 23147 | G26: 2889 | H26: =F26+G26 -> 26036
A27: 3235 | C27: Zakupnine i najamnine | F27: 1830 | G27: -4 | H27: =F27+G27 -> 1826
A28: 3236 | C28: Zdravstvene i veterinarske usluge | F28: 6400 | G28: 4000 | H28: =F28+G28 -> 10400
A29: 3237 | C29: Intelektualne i osobne usluge | F29: 750 | G29: 9200 | H29: =F29+G29 -> 9950
A30: 3238 | C30: Računalne usluge | F30: 4500 | G30: 175 | H30: =F30+G30 -> 4675
A31: 3239 | C31: Ostale usluge | F31: 26951 | G31: -4850 | H31: =F31+G31 -> 22101
A32: 3292 | C32: Premije osiguranja | F32: 3000 | G32: 0 | H32: =F32+G32 -> 3000
A33: 3294 | C33: Članarine i norme | F33: 364 | G33: 0 | H33: =F33+G33 -> 364
A34: 3295 | C34: Pristojbe i naknade | F34: 85 | G34: 0 | H34: =F34+G34 -> 85
A35: 3299 | C35: Ostali nespomenuti rashodi poslovanja | F35: 500 | G35: -85 | H35: =F35+G35 -> 415
A36: 34 | C36: Financijski rashodi | F36: =SUM(F37:F37) -> 1000 | G36: =SUM(G37:G37) -> -200 | H36: =SUM(H37:H37) -> 800
A37: 3431 | C37: Bankarske usluge i usluge platnog prometa | F37: 1000 | G37: -200 | H37: =F37+G37 -> 800
A38: Aktivnost A18054004 | C38: REDOVNA DJELATNOST OSNOVNOG OBRAZOVANJA | F38: =F39 -> 2439025 | G38: =G39 -> -86455 | H38: =H39 -> 2352570
A39: Izvor 59 | C39: Pomoći iz državnog proračuna za plaće te ostale rashode za zaposlene | F39: =F40+F45 -> 2439025 | G39: =G40+G45 -> -86455 | H39: =H40+H45 -> 2352570
A40: 31 | C40: Rashodi za zaposlene | F40: =SUM(F41:F44) -> 2396525 | G40: =SUM(G41:G44) -> -97525 | H40: =SUM(H41:H44) -> 2299000
A41: 3111 | C41: Plaće za redovan rad | F41: 1965000 | G41: -110000 | H41: =F41+G41 -> 1855000
A42: 3113 | C42: Plaće za prekovremeni rad | F42: 20000 | G42: 20000 | H42: =F42+G42 -> 40000
A43: 3121 | C43: Ostali rashodi za zaposlene | F43: 84000 | G43: 5000 | H43: =F43+G43 -> 89000
A44: 3132 | C44: Doprinosi za obvezno zdravstveno osiguranje | F44: 327525 | G44: -12525 | H44: =F44+G44 -> 315000
A45: 32 | C45: Materijalni rashodi | F45: =SUM(F46:F47) -> 42500 | G45: =SUM(G46:G47) -> 11070 | H45: =SUM(H46:H47) -> 53570
A46: 3212 | C46: Naknade za prijevoz, za rad na terenu i odvojeni život | F46: 40000 | G46: 10000 | H46: =F46+G46 -> 50000
A47: 3295 | C47: Pristojbe i naknade | F47: 2500 | G47: 1070 | H47: =F47+G47 -> 3570
A48: 18055 DECENTRALIZIRANE FUNKCIJE - IZNAD MINIMALNOG FINANCIJSKOG STANDARDA | F48: =F49+F96+F126+F130+F138+F153+F157+F164 -> 1030828 | G48: =G49+G96+G126+G130+G138+G153+G157+G164 -> 137837 | H48: =H49+H96+H126+H130+H138+H153+H157+H164 -> 1168665
A49: Aktivnost A18055002 | C49: OSTALI PROJEKTI U OSNOVNOM ŠKOLSTVU | F49: =F50+F62+F69+F87 -> 37085 | G49: =G50+G62+G69+G87 -> 89985 | H49: =H50+H62+H69+H87 -> 127070
A50: Izvor 11 | C50: Opći prihodi i primici | F50: =F51+F59 -> 19500 | G50: =G51+G59 -> 83700 | H50: =H51+H59 -> 103200
A51: 32 | C51: Materijalni rashodi | F51: =SUM(F52:F58) -> 17500 | G51: =SUM(G52:G58) -> 21050 | H51: =SUM(H52:H58) -> 38550
A52: 3222 | C52: Materijal i sirovine | F52: 0 | G52: 150 | H52: =F52+G52 -> 150
A53: 3223 | C53: Energija | F53: 9000 | G53: 5000 | H53: =F53+G53 -> 14000
A54: 3225 | C54: Sitni inventar i autogume | F54: 0 | G54: 1500 | H54: =F54+G54 -> 1500
A55: 3232 | C55: Usluge tekućeg i investicijskog održavanja | F55: 4500 | G55: 0 | H55: =F55+G55 -> 4500
A56: 3237 | C56: Intelektualne i osobne usluge | F56: 0 | G56: 6850 | H56: =F56+G56 -> 6850
A57: 3239 | C57: Ostale usluge | F57: 4000 | G57: 6500 | H57: =F57+G57 -> 10500
A58: 3299 | C58: Ostali nespomenuti rashodi poslovanja | F58: 0 | G58: 1050 | H58: =F58+G58 -> 1050
A59: 37 | C59: Naknade građanima i kućanstvima na temelju osiguranja i druge naknade | F59: =SUM(F60:F61) -> 2000 | G59: =SUM(G60:G61) -> 62650 | H59: =SUM(H60:H61) -> 64650
A60: 3721 | C60: Naknade građanima i kućanstvima u novcu | F60: 0 | G60: 0 | H60: =F60+G60 -> 0
A61: 3722 | C61: Naknade građanima i kućanstvima unaravi | F61: 2000 | G61: 62650 | H61: =F61+G61 -> 64650
A62: Izvor 35 | C62: Vlastiti prihodi proračunskih korisnika | F62: =F63 -> 1700 | G62: =G63 -> 2460 | H62: =H63 -> 4160
A63: 32 | C63: Materijalni rashodi | F63: =SUM(F64:F68) -> 1700 | G63: =SUM(G64:G68) -> 2460 | H63: =SUM(H64:H68) -> 4160
A64: 3221 | C64: Uredski materijal i ostali materijalni rashodi | F64: 100 | G64: 100 | H64: =F64+G64 -> 200
A65: 3225 | C65: Sitni inventar i autogume | F65: 700 | G65: -600 | H65: =F65+G65 -> 100
A66: 3237 | C66: Intelektualne i osobne usluge | F66: 0 | G66: 3000 | H66: =F66+G66 -> 3000
A67: 3239 | C67: Ostale usluge | F67: 500 | G67: 0 | H67: =F67+G67 -> 500
A68: 3299 | C68: Ostali nespomenuti rashodi poslovanja | F68: 400 | G68: -40 | H68: =F68+G68 -> 360
A69: Izvor 65 | C69: Donacije i ostali namjenski prihodi proračunskih korisnika | F69: =F70+F73+F83+F85+F81 -> 15885 | G69: =G70+G73+G83+G85+G81 -> -1232 | H69: =H70+H73+H83+H85+H81 -> 14653
A70: 31 | C70: Rashodi za zaposlene | F70: =SUM(F71:F72) -> 525 | G70: =SUM(G71:G72) -> 148 | H70: =SUM(H71:H72) -> 673
A71: 3111 | C71: Plaće za redovan rad | F71: 450 | G71: 127 | H71: =F71+G71 -> 577
A72: 3132 | C72: Doprinosi za obvezno zdravstveno osiguranje | F72: 75 | G72: 21 | H72: =F72+G72 -> 96
A73: 32 | C73: Materijalni rashodi | F73: =SUM(F74:F80) -> 12060 | G73: =SUM(G74:G80) -> -2080 | H73: =SUM(H74:H80) -> 9980
A74: 3211 | C74: Službena putovanja | F74: 710 | G74: -180 | H74: =F74+G74 -> 530
A75: 3213 | C75: Stručno usavršavanje zaposlenika | F75: 100 | G75: 0 | H75: =F75+G75 -> 100
A76: 3221 | C76: Uredski materijal i ostali materijalni rashodi | F76: 2050 | G76: 200 | H76: =F76+G76 -> 2250
A77: 3223 | C77: Energija | F77: 7000 | G77: -2000 | H77: =F77+G77 -> 5000
A78: 3225 | C78: Sitni inventar i autogume | F78: 1500 | G78: 0 | H78: =F78+G78 -> 1500
A79: 3232 | C79: Usluge tekućeg i investicijskog održavanja | F79: 200 | G79: 0 | H79: =F79+G79 -> 200
A80: 3234 | C80: Komunalne usluge | F80: 500 | G80: -100 | H80: =F80+G80 -> 400
A81: 37 | C81: Naknade građanima i kućanstvima na temelju osiguranja i druge naknade | F81: =SUM(F82:F82) -> 0 | G81: =SUM(G82:G82) -> 500 | H81: =SUM(H82:H82) -> 500
A82: 3721 | C82: Naknade građanima i kućanstvima u novcu | F82: 0 | G82: 500 | H82: =F82+G82 -> 500
A83: 38 | C83: Ostali rashodi | F83: =F84 -> 1800 | G83: =G84 -> 0 | H83: =H84 -> 1800
A84: 3812 | C84: Tekuće donacije u naravi | F84: 1800 | G84: 0 | H84: =F84+G84 -> 1800
A85: 42 | C85: Rashodi za nabavu proizvedene dugotrajne imovine | F85: =SUM(F86:F86) -> 1500 | G85: =SUM(G86:G86) -> 200 | H85: =SUM(H86:H86) -> 1700
A86: 4241 | C86: Knjige u knjižnicama | F86: 1500 | G86: 200 | H86: =F86+G86 -> 1700
A87: Izvor 99 | C87: Višak/manjak | F87: =F88+F94 -> 0 | G87: =G88+G94 -> 5057 | H87: =H88+H94 -> 5057
A88: 32 | C88: Materijalni rashodi | F88: =SUM(F89:F93) -> 0 | G88: =SUM(G89:G93) -> 4908 | H88: =SUM(H89:H93) -> 4908
A89: 3211 | C89: Službena putovanja | F89: 0 | G89: 1211 | H89: =F89+G89 -> 1211
A90: 3213 | C90: Stručno usavršavanje zaposlenika | F90: 0 | G90: 750 | H90: =F90+G90 -> 750
A91: 3221 | C91: Uredski materijal i ostali materijalni rashodi | F91: 0 | G91: 1510 | H91: =F91+G91 -> 1510
A92: 3225 | C92: Sitni inventar i autogume | F92: 0 | G92: 1037 | H92: =F92+G92 -> 1037
A93: 3239 | C93: Ostale usluge | F93: 0 | G93: 400 | H93: =F93+G93 -> 400
A94: 42 | C94: Rashodi za nabavu proizvedene dugotrajne imovine | F94: =SUM(F95:F95) -> 0 | G94: =SUM(G95:G95) -> 149 | H94: =SUM(H95:H95) -> 149
A95: 4221 | C95: Uredska oprema i namještaj | F95: 0 | G95: 149 | H95: =F95+G95 -> 149
A96: Aktivnost A18055006 | C96: PRODUŽENI BORAVAK | F96: =F97+F105+F122 -> 238442 | G96: =G97+G105+G122 -> 52067 | H96: =H97+H105+H122 -> 290509
A97: Izvor 11 | C97: Opći prihodi i primici | F97: =F98+F103 -> 188200 | G97: =G98+G103 -> 14872 | H97: =H98+H103 -> 203072
A98: 31 | C98: Rashodi za zaposlene | F98: =SUM(F99:F102) -> 186700 | G98: =SUM(G99:G102) -> 14842 | H98: =SUM(H99:H102) -> 201542
A99: 3111 | C99: Plaće za redovan rad | F99: 150000 | G99: 12100 | H99: =F99+G99 -> 162100
A100: 3113 | C100: Plaće za prekovremeni rad | F100: 5000 | G100: 0 | H100: =F100+G100 -> 5000
A101: 3121 | C101: Ostali rashodi za zaposlene | F101: 6200 | G101: 642 | H101: =F101+G101 -> 6842
A102: 3132 | C102: Doprinosi za obvezno zdravstveno osiguranje | F102: 25500 | G102: 2100 | H102: =F102+G102 -> 27600
A103: 32 | C103: Materijalni rashodi | F103: =F104 -> 1500 | G103: =G104 -> 30 | H103: =H104 -> 1530
...
